BEGIN:VCALENDAR
VERSION:2.0
PRODID:-//wp-events-plugin.com//7.2.3.1//EN
TZID:Europe/Vienna
X-WR-TIMEZONE:Europe/Vienna
BEGIN:VEVENT
UID:21944@musicaustria.at
DTSTART;TZID=Europe/Vienna:20260513T200000
DTEND;TZID=Europe/Vienna:20260513T200000
DTSTAMP:20260305T121633Z
URL:https://www.musicaustria.at/veranstaltungen/manu-delago-max-zt-deuce-t
 our-2026-3/
SUMMARY:MANU DELAGO & MAX ZT - Deuce Tour 2026
DESCRIPTION:Die Grammy-nominierten Musiker Manu Delago und Max ZT haben sic
 h zu einem neuen Duo zusammengeschlossen\, das die klanglichen Möglichkei
 ten ihrer Instrumente Handpan und Hackbrett neu erforscht. Ein ausgefeilte
 r Kompositionsstil trifft auf hohe Improvisationskunst. Es entstehen eindr
 ucksvolle und sinnliche Klangwelten\, mit Feingefühl und trotzdem dynamis
 ch.\n\n„Als ich Manu zum ersten Mal hörte\, war ich hin und weg. Es war
  seine Virtuosität und die damit verbundene ungewöhnliche Art\, wie er k
 omponiert und sein Instrument spielt”\, erklärt Max ZT. Das Duo lernte 
 sich vor fast 10 Jahren kennen\, als Manu Delago auf USA-Tour war. „Bei 
 unserem ersten Konzert in New York 2019 haben wir großteils improvisiert\
 , aber im Laufe der Jahre sind aus Spontan-Ideen ganze Kompositionen gewor
 den. Letztes Jahr fanden wir endlich den perfekten Zeitpunkt und Ort\, um 
 die Musik aufzunehmen – ein beeindruckender Raum aus dem 18. Jahrhundert
  in einem noch älteren Kloster in den Tiroler Alpen. Ein Duo\, das sich g
 egenübersteht und dessen beide Mitglieder gerade 40 geworden sind? Wir mu
 ssten das Album einfach Deuce nennen“\, erinnert sich Manu Delago.\n\n
 Der Komponist und Perkussionist hat bereits über 50 Länder mit seinen Au
 ftritten bereist. Er arbeitete mit namhaften KünstlerInnen wie Björk\, A
 noushka Shankar und The Cinematic Orchestra zusammen. Als Solist trat er u
 a mit dem Metropole Orkest und dem London Symphony Orchestra auf. In seine
 m mehrfach preisgekrönten Musikfilm „Parasol Peak“ leitet Manu Delago
  sein 7-köpfiges Ensemble auf einer Bergexpedition. 2021 und 2023 startet
 e der abenteuerlustige Musiker die ReCycling Tour\, eine nachhaltige Konze
 rttournee mit dem Fahrrad\, auf der seine Band und Crew 1500 Kilometer dur
 ch Europa radelten.\n\nMax ZT\, gefeiert als „der Jimi Hendrix des Hackb
 retts“ (NPR)\, hat die Spielweise seines Instruments durch jahrzehntelan
 ge Erfahrung und viel Innovation neu definiert und hat dabei verschiedene 
 Traditionen von Afrika bis Indien in seine Studien einfließen lassen. Der
  in Brooklyn lebende Musiker ist Gründungsmitglied von House of Waters un
 d hat bereits acht Alben auf dem Label GroundUP Music von Snarky Puppy ver
 öffentlicht.\n\nManu Delago und Max ZT veröffentlichen Anfang 2026 ihr D
 ebütalbum „Deuce“\, gefolgt von einer weltweiten Konzert-Tour. Vom er
 sten Aufschlag werden KonzertbesucherInnen in eine Welt entführt\, die si
 ch sowohl uralt als auch irgendwie völlig neu anfühlt.
CATEGORIES:Events
LOCATION:Komma\, K.M.-Pichlerstraße 21A\, Wörgl\, Tirol\, 6300\, Österre
 ich
GEO:47.489504;12.060277
X-APPLE-STRUCTURED-LOCATION;VALUE=URI;X-ADDRESS=K.M.-Pichlerstraße 21A\, W
 örgl\, Tirol\, 6300\, Österreich;X-APPLE-RADIUS=100;X-TITLE=Komma:geo:47
 .489504,12.060277
END:VEVENT
BEGIN:VTIMEZONE
TZID:Europe/Vienna
X-LIC-LOCATION:Europe/Vienna
BEGIN:DAYLIGHT
DTSTART:20260329T030000
TZOFFSETFROM:+0100
TZOFFSETTO:+0200
TZNAME:CEST
END:DAYLIGHT
END:VTIMEZONE
END:VCALENDAR