BEGIN:VCALENDAR
VERSION:2.0
PRODID:-//wp-events-plugin.com//7.2.3.1//EN
TZID:Europe/Vienna
X-WR-TIMEZONE:Europe/Vienna
BEGIN:VEVENT
UID:22044@musicaustria.at
DTSTART;TZID=Europe/Vienna:20260430T193000
DTEND;TZID=Europe/Vienna:20260430T193000
DTSTAMP:20260408T132236Z
URL:https://www.musicaustria.at/veranstaltungen/manu-delago-max-zt-deuce-t
 our-2026-2/
SUMMARY:Ö1 JAZZNACHT live: MANU DELAGO & MAX ZT // YASMO & DIE KLANGKANTIN
 E
DESCRIPTION:MANU DELAGO &amp\; MAX ZT\n\nDie Grammy-nominierten Musiker Man
 u Delago und Max ZT haben sich zu einem neuen Duo zusammengeschlossen\, da
 s die klanglichen Möglichkeiten ihrer Instrumente Handpan und Hackbrett n
 eu erforscht. Ein ausgefeilter Kompositionsstil trifft auf hohe Improvisat
 ionskunst. Es entstehen eindrucksvolle und sinnliche Klangwelten\, mit Fei
 ngefühl und trotzdem dynamisch.\n\n„Als ich Manu zum ersten Mal hörte\
 , war ich hin und weg. Es war seine Virtuosität und die damit verbundene 
 ungewöhnliche Art\, wie er komponiert und sein Instrument spielt”\, erk
 lärt Max ZT. Das Duo lernte sich vor fast 10 Jahren kennen\, als Manu Del
 ago auf USA-Tour war. „Bei unserem ersten Konzert in New York 2019 haben
  wir großteils improvisiert\, aber im Laufe der Jahre sind aus Spontan-Id
 een ganze Kompositionen geworden. Letztes Jahr fanden wir endlich den perf
 ekten Zeitpunkt und Ort\, um die Musik aufzunehmen – ein beeindruckender
  Raum aus dem 18. Jahrhundert in einem noch älteren Kloster in den Tirole
 r Alpen. Ein Duo\, das sich gegenübersteht und dessen beide Mitglieder ge
 rade 40 geworden sind? Wir mussten das Album einfach Deuce nennen“\, e
 rinnert sich Manu Delago.\n\nDer Komponist und Perkussionist hat bereits 
 über 50 Länder mit seinen Auftritten bereist. Er arbeitete mit namhaften
  KünstlerInnen wie Björk\, Anoushka Shankar und The Cinematic Orchestra 
 zusammen. Als Solist trat er ua mit dem Metropole Orkest und dem London Sy
 mphony Orchestra auf. In seinem mehrfach preisgekrönten Musikfilm „Para
 sol Peak“ leitet Manu Delago sein 7-köpfiges Ensemble auf einer Bergexp
 edition. 2021 und 2023 startete der abenteuerlustige Musiker die ReCycling
  Tour\, eine nachhaltige Konzerttournee mit dem Fahrrad\, auf der seine Ba
 nd und Crew 1500 Kilometer durch Europa radelten.\n\nMax ZT\, gefeiert als
  „der Jimi Hendrix des Hackbretts“ (NPR)\, hat die Spielweise seines I
 nstruments durch jahrzehntelange Erfahrung und viel Innovation neu definie
 rt und hat dabei verschiedene Traditionen von Afrika bis Indien in seine S
 tudien einfließen lassen. Der in Brooklyn lebende Musiker ist Gründungsm
 itglied von House of Waters und hat bereits acht Alben auf dem Label Groun
 dUP Music von Snarky Puppy veröffentlicht.\n\nManu Delago und Max ZT ver
 öffentlichen Anfang 2026 ihr Debütalbum „Deuce“\, gefolgt von einer 
 weltweiten Konzert-Tour. Vom ersten Aufschlag werden KonzertbesucherInnen 
 in eine Welt entführt\, die sich sowohl uralt als auch irgendwie völlig 
 neu anfühlt.\n\nYASMO &amp\; DIE KLANGKANTINE\n\nYasmo &amp\; die Klangka
 ntine sind zurück – mit frischen Tracks\, neuem Sound und der mitreiße
 nden Energie\, die sie zu einer der besten Live-Bands des Landes gemacht h
 at! Nach gefeierten Konzerten und ausverkauften Shows melden sich die wort
 gewaltige Rapperin und ihre Big Band mit einem neuen Album im Gepäck zur
 ück auf die Bühnen. Musikalisch gehen sie noch einen Schritt weiter: Der
  unverkennbare Mix aus Rap\, Jazz und großer Bläser-Power klingt noch fa
 cettenreicher\, noch mutiger – und trifft wie immer direkt ins Herz und 
 auf die Zwölf.Wer Yasmo &amp\; die Klangkantine schon einmal live erlebt 
 hat\, weiß: Hier trifft messerscharfe Lyrik auf mitreißende Arrangements
 \, explosive Spielfreude auf Haltung. Und wer sie noch nicht gesehen hat 
 – sollte das jetzt dringend nachholen!Neues Album. Neuer Sound. Gleiche 
 Wucht.Yasmo &amp\; die Klangkantine live – besser\, lauter und dringlich
 er denn je
CATEGORIES:Events
LOCATION:Treibhaus\, Angerzellgasse 8\, Innsbruck\, Tirol\, 6020\, Österre
 ich
GEO:47.267579;11.396395
X-APPLE-STRUCTURED-LOCATION;VALUE=URI;X-ADDRESS=Angerzellgasse 8\, Innsbruc
 k\, Tirol\, 6020\, Österreich;X-APPLE-RADIUS=100;X-TITLE=Treibhaus:geo:47
 .267579,11.396395
END:VEVENT
BEGIN:VTIMEZONE
TZID:Europe/Vienna
X-LIC-LOCATION:Europe/Vienna
BEGIN:DAYLIGHT
DTSTART:20260329T030000
TZOFFSETFROM:+0100
TZOFFSETTO:+0200
TZNAME:CEST
END:DAYLIGHT
END:VTIMEZONE
END:VCALENDAR