BEGIN:VCALENDAR
VERSION:2.0
PRODID:-//wp-events-plugin.com//7.2.3.1//EN
TZID:Europe/Vienna
X-WR-TIMEZONE:Europe/Vienna
BEGIN:VEVENT
UID:22097@musicaustria.at
DTSTART;TZID=Europe/Vienna:20260520T203000
DTEND;TZID=Europe/Vienna:20260520T203000
DTSTAMP:20260424T124835Z
URL:https://www.musicaustria.at/veranstaltungen/lusterboden/
SUMMARY:Lusterboden
DESCRIPTION:\n\nFlorian Klingler: piano\, vocals\nMerlin Miglinci: accordio
 n\, vocals\nTimon Grohs: guitar\nLea-Carlotta Walenta: bass\nJonas Kočnik
 : drums\n\nFreundschaft. Vertrautheit. Charme.\n\nDrei Wörter\, die einem
  automatisch durch den Kopf schwirren\, sobald Lusterboden spielt. Ihre Mu
 sik ist ehrlich. Ein seltenes Gut in Zeiten\, in denen Klang oft synthetis
 ch wirkt. Echte Musik stirbt nicht. Sie ist nicht kleinzukriegen. Lusterbo
 den ist einer dieser Eckpfeiler\, auf die sich Kunst immer stützen kann\,
  wenn sie mal ins Straucheln gerät. Sie bleibt\, leuchtet nach\, trägt.\
 n\nMerlin und Florian kennen sich\, seit sie Kinder sind. Damals standen s
 ie gemeinsam auf der Bühne des Burgtheaters\, zwei Burschen\, die spielte
 n\, bevor sie wussten\, dass man das später einmal „Kunst“ nennt. Der
  Dachboden über dieser Bühne heißt Lusterboden. Dort\, zwischen Staub\,
  Licht und Geschichten\, entstand etwas\, das bis heute nachhallt: eine Fr
 eundschaft\, die Musik geworden ist.\n\nUnd genau diese Freundschaft hört
  man. Sie ist das unsichtbare Band zwischen den Tönen. Der Sauerstoff\, d
 er ihre Musik atmen lässt. Wenn Merlin und Florian auf der Bühne miteina
 nder sprechen\, dann ist das kein Bühnenprogramm\, sondern pures Vertraue
 n. Ihre Gespräche sind ungekünstelt\, ihr Lachen ansteckend\, ihre Still
 e genauso ehrlich wie ihre Melodien. Vielleicht ist das das Geheimnis von 
 Lusterboden: dass man bei ihnen nicht nur Musik hört\, sondern auch miter
 lebt\, wie Freundschaft klingt.\n\nEine Veranstaltung von Spoon Agency\n\n
 \nhttps://lusterboden.at/\nhttps://www.spoon-agency.at/artist/lusterboden/
CATEGORIES:Events
LOCATION:Porgy & Bess\, Riemergasse 11\, Wien\, Wien\, 1010\, Österreich
GEO:48.206833;16.37664
X-APPLE-STRUCTURED-LOCATION;VALUE=URI;X-ADDRESS=Riemergasse 11\, Wien\, Wie
 n\, 1010\, Österreich;X-APPLE-RADIUS=100;X-TITLE=Porgy & Bess:geo:48.2068
 33,16.37664
END:VEVENT
BEGIN:VTIMEZONE
TZID:Europe/Vienna
X-LIC-LOCATION:Europe/Vienna
BEGIN:DAYLIGHT
DTSTART:20260329T030000
TZOFFSETFROM:+0100
TZOFFSETTO:+0200
TZNAME:CEST
END:DAYLIGHT
END:VTIMEZONE
END:VCALENDAR