BEGIN:VCALENDAR
VERSION:2.0
PRODID:-//wp-events-plugin.com//7.2.3.1//EN
TZID:Europe/Vienna
X-WR-TIMEZONE:Europe/Vienna
BEGIN:VEVENT
UID:22067@musicaustria.at
DTSTART;TZID=Europe/Vienna:20260522T143000
DTEND;TZID=Europe/Vienna:20260522T143000
DTSTAMP:20260421T121622Z
URL:https://www.musicaustria.at/veranstaltungen/lucid-dreams-happy-palace/
SUMMARY:Lucid Dreams - HAPPY PALACE
DESCRIPTION:Was ist Glück im digitalen Zeitalter? Die neue Ausgabe des Luc
 id Dreams Festivals lädt dazu ein\, einen Ort voll innovativer Poesie zu 
 entdecken: den Happy Palace. Auch diesmal entert ein Team aus Künstler:in
 nen und Studierenden der USTP St. Pölten die Bühne im Hof und verwandelt
  sie in einen digitalen Traumpalast. Treten Sie ein und verlieren Sie sich
  in einem Traumlabyrinth\, erkunden Sie räumliche Klanglandschaften oder 
 erschaffen Sie interaktive Kunstwerke!\n\nIm Happy Palace wird die Zukunft
  mit allen Sinnen erlebbar!
CATEGORIES:Events
LOCATION:Bühne im Hof (BIH)\, Linzer Strasse 18\, St. Pölten\, Niederöst
 erreich\, 3100\, St. Pölten\, Österreich
GEO:48.203049;15.622085
X-APPLE-STRUCTURED-LOCATION;VALUE=URI;X-ADDRESS=Linzer Strasse 18\, St. Pö
 lten\, Niederösterreich\, 3100\, St. Pölten\, Österreich;X-APPLE-RADIUS
 =100;X-TITLE=Bühne im Hof (BIH):geo:48.203049,15.622085
END:VEVENT
BEGIN:VTIMEZONE
TZID:Europe/Vienna
X-LIC-LOCATION:Europe/Vienna
BEGIN:DAYLIGHT
DTSTART:20260329T030000
TZOFFSETFROM:+0100
TZOFFSETTO:+0200
TZNAME:CEST
END:DAYLIGHT
END:VTIMEZONE
END:VCALENDAR