BEGIN:VCALENDAR
VERSION:2.0
PRODID:-//wp-events-plugin.com//7.2.3.1//EN
TZID:Europe/Vienna
X-WR-TIMEZONE:Europe/Vienna
BEGIN:VEVENT
UID:22027@musicaustria.at
DTSTART;TZID=Europe/Vienna:20260421T200000
DTEND;TZID=Europe/Vienna:20260421T200000
DTSTAMP:20260401T143526Z
URL:https://www.musicaustria.at/veranstaltungen/lu-trio/
SUMMARY:LU Trio
DESCRIPTION:Lukas Kleemair - drums\nUrs Hager - piano\nTobias Steinrück - 
 bass\n\nVerwurzelt im Jazz spannt das „LUTrio“ eine Brücke zwischen T
 radition und Gegenwart dieses Genres. 2015 von Lukas Kleemair (Schlagzeug)
 \, Urs Hager (Klavier) und Tobias Steinrück (Bass) gegründet\, ist das T
 rio seitdem eine Ideenquelle für eigene Kompositionen und eine „Spielwi
 ese“ für das gemeinsame Improvisieren und Zusammenspielen ganz im Sinne
  eines gleichberechtigten Ensembles.\n\nIn seinem Debüt-Album „Silent C
 ity“\, das im April 2022 auf dem österreichischen Label „ATS-Records
 “ erschienen ist\, verwebt das Trio die unterschiedlichen musikalischen 
 Facetten der Bandmitglieder. Neben eigenen Kompositionen interpretiert das
  Trio auf diesem Album bekannte Jazzstandards\, sowie Stücke der Beatles 
 oder Erik Saties neu.
CATEGORIES:Events
LOCATION:Alter Schlachthof Wels\, Dragonerstraße 22\, Wels\, Oberösterrei
 ch\, 4600\, Österreich
GEO:48.158522;14.017457
X-APPLE-STRUCTURED-LOCATION;VALUE=URI;X-ADDRESS=Dragonerstraße 22\, Wels\,
  Oberösterreich\, 4600\, Österreich;X-APPLE-RADIUS=100;X-TITLE=Alter Sch
 lachthof Wels:geo:48.158522,14.017457
END:VEVENT
BEGIN:VTIMEZONE
TZID:Europe/Vienna
X-LIC-LOCATION:Europe/Vienna
BEGIN:DAYLIGHT
DTSTART:20260329T030000
TZOFFSETFROM:+0100
TZOFFSETTO:+0200
TZNAME:CEST
END:DAYLIGHT
END:VTIMEZONE
END:VCALENDAR