BEGIN:VCALENDAR
VERSION:2.0
PRODID:-//wp-events-plugin.com//7.2.3.1//EN
TZID:Europe/Vienna
X-WR-TIMEZONE:Europe/Vienna
BEGIN:VEVENT
UID:22083@musicaustria.at
DTSTART;TZID=Europe/Vienna:20260526T200000
DTEND;TZID=Europe/Vienna:20260526T200000
DTSTAMP:20260424T121736Z
URL:https://www.musicaustria.at/veranstaltungen/liverkh-crush-und-frachild
 /
SUMMARY:Live@RKH: Crush und FRACHILD
DESCRIPTION:Zwei Bands\, zwei Klangwelten – ein gemeinsamer Abend zwische
 n Verletzlichkeit und Pop-Appeal: An diesem Abend treffen FRACHILD aus Wie
 n und Crush aus Graz aufeinander.\n\nFRACHILD präsentieren an diesem Aben
 d ihre Debüt-EP. Seit ihrer Gründung vor fünf Jahren setzt sich die vie
 rköpfige Band mit Mitgefühl\, Unsicherheit und dem komplexen Miteinander
  auseinander.\n\nIhre Musik ist ein kollektiver Raum\, in dem persönliche
  Ängste nicht verdrängt\, sondern geteilt werden. Melancholische Gitarre
 n\, drei unverkennbare Stimmen und schwere\, ehrliche Texte kreisen um Fam
 ilie\, Körperlichkeit und Verlust – um all jene Themen\, für die Sprac
 he oft nicht ausreicht.\n\nAlternative/Indie getragen von dem Gedanken\, d
 ass Gemeinschaft stärker ist als Angst.\n\nDen zweiten Teil des Abends ge
 stalten Crush. Die Grazer Band spielt seit 2016 verträumten Pop mit bitte
 rsüßen Texten und bewegt sich zwischen Power Pop\, Dream Pop und Indie-R
 ock\, mit hörbaren Einflüssen aus New Wave und Post Punk der 1980er Jahr
 e. Vielschichtige Arrangements treffen auf eingängige Melodien\, die bis 
 in die Popgeschichte der 1960er Jahre zurückreichen.\n\nNach mehreren EPs
 \, internationalen Touren und FM4-Rotationen erschien 2023 mit "PAST PERFE
 CT" ihr zweites Album – ein stilistischer Schritt hin zu einem klareren\
 , poppigeren Sound.\n\nEin Konzertabend zwischen inneren Spannungsräumen 
 und melodischer Leichtigkeit\, zwischen Nähe und Distanz\, Schwere und Zu
 ckerüberzug. Hier zeigt sich wieder einmal\, wie vielfältig und lebendig
  die österreichische Indie- und Poplandschaft ist.\n\nIn Kooperation mit 
 The Gap und FM4.
CATEGORIES:Events
LOCATION:Orf Radiokulturhaus\, Argentinierstraße 30a\, Wien\, Wien\, 1040\
 , Österreich
GEO:48.194522;16.373029
X-APPLE-STRUCTURED-LOCATION;VALUE=URI;X-ADDRESS=Argentinierstraße 30a\, Wi
 en\, Wien\, 1040\, Österreich;X-APPLE-RADIUS=100;X-TITLE=Orf Radiokulturh
 aus:geo:48.194522,16.373029
END:VEVENT
BEGIN:VTIMEZONE
TZID:Europe/Vienna
X-LIC-LOCATION:Europe/Vienna
BEGIN:DAYLIGHT
DTSTART:20260329T030000
TZOFFSETFROM:+0100
TZOFFSETTO:+0200
TZNAME:CEST
END:DAYLIGHT
END:VTIMEZONE
END:VCALENDAR