BEGIN:VCALENDAR
VERSION:2.0
PRODID:-//wp-events-plugin.com//7.2.3.1//EN
TZID:Europe/Vienna
X-WR-TIMEZONE:Europe/Vienna
BEGIN:VEVENT
UID:22058@musicaustria.at
DTSTART;TZID=Europe/Vienna:20260501T203000
DTEND;TZID=Europe/Vienna:20260501T203000
DTSTAMP:20260413T110531Z
URL:https://www.musicaustria.at/veranstaltungen/livelot-pretty-average-pal
 oma004-ventl/
SUMMARY:Live@LOT: Pretty Average / Paloma004 / Vent!l
DESCRIPTION:About\n\n\n\nPRETTY AVERAGE brings a fresh musical perspective 
 to Berlin\, that of a frontwoman who sets out to make a difference with he
 r song writing with subjects such as female perspective on identity and so
 cial rejection. Candy sings her songs with her rough voice backed by the d
 istortion and raw sound the band has been developing since relocating to B
 erlin from Barcelona. 2024\, Francisco Parisi (Minimal Schlager) produced 
 the band for their debut release "All I Wanted". Thanks to this publicatio
 n the band was granted with Musicboard Berlin Scholarship 24'.Pretty Avera
 ge recently recorded an album with Ghost Palace Records. An album recorded
  with free spirit that explores themes of isolation and tries to give a vo
 ice to a young generation with an uncertain future. The album "The highs a
 nd lows of being Pretty Average" was created with the fundamental statemen
 t of being a live performance.\n\n \nIn 2026\, the band will tour around 
 Europe organized by a variety of promoters\, at New Colossus Festvial in N
 ew York City and in Asia to promote their debut album.\n\n \nPALOMA 004\n
 Formed in 2021 as a solo project of Lisa Obereder\, Paloma 004 play as a f
 our piece group nowadays. In their songs\, playfulness meets melancholy - 
 the lyrics adress topics such as everyday confusions and existential quest
 ions.\nTheir debut album "Alles fängt neu an" was released digitally and 
 on vinyl on June 13th\, 2025 via Viennese label Fettkakao.  \n\n \nEmer
 ging from Vienna’s vibrant underground in 2023\, VENT!L navigates the em
 otional landscape between shattered dreams and fleeting utopias. Their sou
 nd fuses the raw urgency of post-punk with the hazy allure of dream pop—
 crafting music that is both confrontational and tender\, sharp-edged yet m
 elodic. Driven by propulsive rhythms\, washed-out guitars\, and atmospheri
 c synths\, they create a sonic space that pulses with intensity and intros
 pection.\n\n\n\nhttps://www.lot.wien/event-details/live-lot-pretty-average
 -paloma004-vent-l\n\n\n
CATEGORIES:Events
LOCATION:das Lot\, Absberggasse 31\, Wien\, 1100\, Österreich
GEO:48.171501;16.389201
X-APPLE-STRUCTURED-LOCATION;VALUE=URI;X-ADDRESS=Absberggasse 31\, Wien\, 11
 00\, Österreich;X-APPLE-RADIUS=100;X-TITLE=das Lot:geo:48.171501,16.38920
 1
END:VEVENT
BEGIN:VTIMEZONE
TZID:Europe/Vienna
X-LIC-LOCATION:Europe/Vienna
BEGIN:DAYLIGHT
DTSTART:20260329T030000
TZOFFSETFROM:+0100
TZOFFSETTO:+0200
TZNAME:CEST
END:DAYLIGHT
END:VTIMEZONE
END:VCALENDAR