BEGIN:VCALENDAR
VERSION:2.0
PRODID:-//wp-events-plugin.com//7.2.3.1//EN
TZID:Europe/Vienna
X-WR-TIMEZONE:Europe/Vienna
BEGIN:VEVENT
UID:21870@musicaustria.at
DTSTART;TZID=Europe/Vienna:20260403T193000
DTEND;TZID=Europe/Vienna:20260403T193000
DTSTAMP:20260226T114011Z
URL:https://www.musicaustria.at/veranstaltungen/lemo-unplugged/
SUMMARY:LEMO - Unplugged
DESCRIPTION:Nach seiner restlos ausverkauften Unplugged-Tour und dem aktuel
 len Album „Irgendwas mit 30“ präsentiert LEMO seine Songs erneut im a
 kustischen Gewand – in ausgewählten\, intimen Locations. Achtung: Die T
 ickets sind streng limitiert.\n\nSeine teils autobiografischen\, teils fei
 n beobachtenden Lieder begeistern mit Tiefgang und emotionaler Ehrlichkeit
 . Besonders live entfaltet LEMO seine ganze Stärke: mit großartiger Band
 \, charismatischer Bühnenpräsenz und einer rauen\, ehrlichen Stimme.\n\n
 Seit Jahren spielt er erfolgreiche Konzerte in Österreich und Deutschland
 \, füllt große Hallen und bleibt dennoch nahbar und authentisch. Seine H
 its wie „Vielleicht der Sommer“ und „Tu es“ machten ihn zu einem F
 ixpunkt der österreichischen Poplandschaft.\n\nDreimal wurde LEMO mit dem
  Amadeus Award als „Songwriter des Jahres“ ausgezeichnet – für sein
 e Fähigkeit\, echte Emotionen in Songs zu verwandeln\, die klingen wie Ta
 gebucheinträge voller Leben\, Liebe und Melancholie.
CATEGORIES:Events
LOCATION:Johann-Pölz-Halle Amstetten\, Stadionstraße 12\, Amstetten\, Nie
 derösterreich\, 3300\, Österreich
GEO:48.116179;14.878043
X-APPLE-STRUCTURED-LOCATION;VALUE=URI;X-ADDRESS=Stadionstraße 12\, Amstett
 en\, Niederösterreich\, 3300\, Österreich;X-APPLE-RADIUS=100;X-TITLE=Joh
 ann-Pölz-Halle Amstetten:geo:48.116179,14.878043
END:VEVENT
BEGIN:VTIMEZONE
TZID:Europe/Vienna
X-LIC-LOCATION:Europe/Vienna
BEGIN:DAYLIGHT
DTSTART:20260329T030000
TZOFFSETFROM:+0100
TZOFFSETTO:+0200
TZNAME:CEST
END:DAYLIGHT
END:VTIMEZONE
END:VCALENDAR