BEGIN:VCALENDAR
VERSION:2.0
PRODID:-//wp-events-plugin.com//7.2.3.1//EN
TZID:Europe/Vienna
X-WR-TIMEZONE:Europe/Vienna
BEGIN:VEVENT
UID:22103@musicaustria.at
DTSTART;TZID=Europe/Vienna:20260509T200000
DTEND;TZID=Europe/Vienna:20260509T200000
DTSTAMP:20260424T125821Z
URL:https://www.musicaustria.at/veranstaltungen/leftovers-support-leeta/
SUMMARY:Leftovers // Support: LEETA
DESCRIPTION:Das am 11.10.2024 erschienene dritte Album der Wiener Überhols
 pur-Wahnsinnsband Leftovers heißt: „Es kann sein\, dass alles endet“.
  Ein guter Titel\, der nun aber auf keinen Fall für die Band selbst gilt\
 , die mit diesem Album auf die denkbar beste Weise erwachsen geworden ist 
 – und gleichzeitig weiterhin lichterloh brennt. Der Autor Eric Pfeil hat
  kürzlich in einer Kolumne für den Rolling Stone ein Hohelied auf die ro
 mantische Idee von der Band als Gang aus Freund*innen geschrieben. Eine Ro
 ckband\, so Pfeil\, sei eine „Brutstätte des Unfugs“ mit „irrlichte
 rnden Ambitionen“\, selbst eine solche zu gründen\, zähle „für jung
 e Menschen zu den sinnvollsten Unternehmungen überhaupt.“ Vielleicht ha
 t Eric Pfeil ja an die Wiener Band Leftovers gedacht\, als er diesen flamm
 enden Appell verfasst hat.\n\nWas es bedeutet\, mit seinen Freundinnen und
  Freunden die Welt aus den Angeln zu heben\, zelebrieren Leftovers nun sch
 on seit drei Alben auf stromstoßartig belebende Weise. Das am 11.10.2024 
 erscheinende neue Album\, „Es kann sein\, dass alles endet“\, ist mehr
  denn je die „Alle-machen-alles-Platte“ dieser Band –und insofern di
 e bislang kollaborativste Leftovers-Musik. Alle vier haben Texte geschrieb
 en\, gesungen\, alles geht ineinander auf und verstärkt sich gegenseitig.
  Oft weiß man nicht\, wer gerade singt oder was auch immer macht\, aber d
 as ist auch nicht wichtig: Alles auf diesem bestürzend umwerfenden Album 
 ist Leftovers. Das womöglich gar nicht mal so überraschende\, keineswegs
  selbstverständliche daran: Anna Grob\, Leon Eder\, Leonid Sushonund Alex
  Waismayer\, deren Namen wir hier ausnahmsweise ein einziges Mal ausschrei
 ben\, bevor wir sie dann wieder Anna\, Leon\, Leonid und Alex nennen\, sin
 d durchaus vier höchst unterschiedliche Individuen. Die natürlich unters
 chiedlich fühlen\, wahrnehmen\, träumen\, ja: sind.\n\nAber genau darum 
 geht es ja! Erst ihre Unterschiedlichkeit macht Leftovers nicht nur größ
 er als die Summe der Teile\, sondern unschlagbar. „Wir haben für die So
 ngs gearbeitet\, nicht für unser Ego“\, sagt Alex. Auf „Müde“ sang
 en Leftovers 2023 von chronischer Überforderung\, von Panikattacken\, tox
 ischen Beziehungen und anderen Katastrophen der Adoleszenz\, nun sind sie 
 schon wieder einen Schritt weiter. Es geht in „Es kann sein\, dass alles
  endet“ um die Kraft der Gemeinschaft\, um ein Aufrichten aneinander in 
 finsteren Zeiten\, um die Sehnsucht nach Liebe und die Abwesenheit derselb
 en. Während der Produktion ergaben sich Trennungen\, neue Bindungen\, and
 ere stabilisierten sich\, das alles natürlich vor dem Hintergrund der gro
 ßen globalen Krisen.
CATEGORIES:Events
LOCATION:WUK Werkstätten- und Kulturhaus\, Währinger Straße 59\, Wien\, 
 Wien\, 1090\, Österreich
GEO:48.223282;16.351416
X-APPLE-STRUCTURED-LOCATION;VALUE=URI;X-ADDRESS=Währinger Straße 59\, Wie
 n\, Wien\, 1090\, Österreich;X-APPLE-RADIUS=100;X-TITLE=WUK Werkstätten-
  und Kulturhaus:geo:48.223282,16.351416
END:VEVENT
BEGIN:VTIMEZONE
TZID:Europe/Vienna
X-LIC-LOCATION:Europe/Vienna
BEGIN:DAYLIGHT
DTSTART:20260329T030000
TZOFFSETFROM:+0100
TZOFFSETTO:+0200
TZNAME:CEST
END:DAYLIGHT
END:VTIMEZONE
END:VCALENDAR