BEGIN:VCALENDAR
VERSION:2.0
PRODID:-//wp-events-plugin.com//7.2.3.1//EN
TZID:Europe/Vienna
X-WR-TIMEZONE:Europe/Vienna
BEGIN:VEVENT
UID:21790@musicaustria.at
DTSTART;TZID=Europe/Vienna:20260402T190000
DTEND;TZID=Europe/Vienna:20260402T190000
DTSTAMP:20260220T124733Z
URL:https://www.musicaustria.at/veranstaltungen/jo-nara/
SUMMARY:Jo Nara
DESCRIPTION:Jo Nara macht souligen Alternative Pop aus den Alpen. Er verweb
 t Klavier und eine starke Stimme mit Mundart und Englisch zu einer warmen 
 Klangsprache und behandelt dabei Themen wie Nähe und Loslassen\, Umbruch 
 und Erinnerung\; zwischenmenschlich\, aber nie pathetisch.
CATEGORIES:Events
LOCATION:Die Scherbe\, Stockergasse 2\, Graz\, Steiermark\, 8020\, Österre
 ich
GEO:47.0743259;15.432588500000065
X-APPLE-STRUCTURED-LOCATION;VALUE=URI;X-ADDRESS=Stockergasse 2\, Graz\, Ste
 iermark\, 8020\, Österreich;X-APPLE-RADIUS=100;X-TITLE=Die Scherbe:geo:47
 .0743259,15.432588500000065
END:VEVENT
BEGIN:VTIMEZONE
TZID:Europe/Vienna
X-LIC-LOCATION:Europe/Vienna
BEGIN:DAYLIGHT
DTSTART:20260329T030000
TZOFFSETFROM:+0100
TZOFFSETTO:+0200
TZNAME:CEST
END:DAYLIGHT
END:VTIMEZONE
END:VCALENDAR