BEGIN:VCALENDAR
VERSION:2.0
PRODID:-//wp-events-plugin.com//7.2.3.1//EN
TZID:Europe/Vienna
X-WR-TIMEZONE:Europe/Vienna
BEGIN:VEVENT
UID:22086@musicaustria.at
DTSTART;TZID=Europe/Vienna:20260612T190000
DTEND;TZID=Europe/Vienna:20260612T190000
DTSTAMP:20260424T122901Z
URL:https://www.musicaustria.at/veranstaltungen/jazztime-shake-stew/
SUMMARY:Jazztime: Shake Stew
DESCRIPTION:Leader Lukas Kranzelbinder und weitere Bandmitglieder sprechen 
 mit Gastgeber Andreas Felber über das Jubiläumsalbum "Ten One Two" sowie
  zehn bemerkenswerte Jahre und spielen live.\n\nVor zehn Jahren gab die Ba
 nd Shake Stew ihr viel beachtetes Debüt beim Jazzfestival Saalfelden. Ein
 e ungewöhnliche Besetzung (je zweimal Bass und Schlagzeug)\, bewegende Li
 ve-Performances und ihr Stil eigener Prägung mit weltmusikalischen Anklä
 ngen\, das alles macht die siebenköpfige Formation zu einer Ausnahmeersch
 einung im mitteleuropäischen Jazz.
CATEGORIES:Events
LOCATION:Radiokulturhaus/RadioCafe\, Argentinierstraße 30A\, Wien\, Wien\,
  1040\, Österreich
GEO:48.194697;16.372585
X-APPLE-STRUCTURED-LOCATION;VALUE=URI;X-ADDRESS=Argentinierstraße 30A\, Wi
 en\, Wien\, 1040\, Österreich;X-APPLE-RADIUS=100;X-TITLE=Radiokulturhaus/
 RadioCafe:geo:48.194697,16.372585
END:VEVENT
BEGIN:VTIMEZONE
TZID:Europe/Vienna
X-LIC-LOCATION:Europe/Vienna
BEGIN:DAYLIGHT
DTSTART:20260329T030000
TZOFFSETFROM:+0100
TZOFFSETTO:+0200
TZNAME:CEST
END:DAYLIGHT
END:VTIMEZONE
END:VCALENDAR