BEGIN:VCALENDAR
VERSION:2.0
PRODID:-//wp-events-plugin.com//7.2.3.1//EN
TZID:Europe/Vienna
X-WR-TIMEZONE:Europe/Vienna
BEGIN:VEVENT
UID:22094@musicaustria.at
DTSTART;TZID=Europe/Vienna:20260511T190000
DTEND;TZID=Europe/Vienna:20260511T190000
DTSTAMP:20260424T124441Z
URL:https://www.musicaustria.at/veranstaltungen/in-der-strengen-kammer-sar
 vin-hazin-solo-die-zeit-weht/
SUMMARY:In der Strengen Kammer: Sarvin Hazin Solo 'Die Zeit weht'
DESCRIPTION:Sarvin Hazin: violin\n\n\nZur gleichen Zeit entstehen an unters
 chiedlichen Orten musikalische Ausdrucksformen aus verschiedenen kulturell
 en Zusammenhängen – und stehen dennoch in derselben Gegenwart. Dieses P
 rogramm folgt solchen Momenten der Gleichzeitigkeit zwischen Klangwelten u
 nd musikalischen Denkweisen.\n\nIm Programm stehen Werke aus unterschiedli
 chen kulturellen Kontexten\, mit einem besonderen Bezug zum iranischen Kul
 turraum\, dessen Kunst\, Geschichte und Mythologie eine zentrale Inspirati
 onsquelle für die Musikerin darstellen\, sowie zur\neuropäischen zeitgen
 össischen Musik. Dazu gehören unter anderem Werke von Eugène Ysaÿe\, A
 bolhasan Saba\, Kaija Saariaho und Reza Vali. Ergänzt wird das Programm d
 urch eigene Kompositionen und improvisatorische Momente\, die den Abend in
  eine persönliche Gegenwart führen.\n\nAusgehend von einer klassischen A
 usbildung in Wien und einer vertieften Beschäftigung mit iranischer Musik
  bewegt sich Sarvin Hazin zwischen unterschiedlichen musikalischen Kontext
 en. Dabei entwickelt sich eine eigene musikalische Sprache\, die sowohl di
 e Auswahl der Werke als auch den Zugang zum Musizieren prägt. (Pressetext
 )\n\nSarvin Hazin wurde 1990 in Teheran geboren und begann ihre musikalisc
 he Ausbildung im Alter von acht Jahren. An der Universität Teheran studie
 rte sie zunächst Konzertfach Violine und schloss mit Auszeichnung ab\, be
 vor sie 2014 ihren Lebensmittelpunkt nach Wien verlegte. Im November 2019 
 schloss sie ihr Konzertfachstudium Violine an der Universität für Musik 
 und darstellende Kunst Wien bei Professor Rainer Küchl (ehemaliger Konzer
 tmeister der Wiener Philharmoniker) mit Auszeichnung ab – zusätzlich be
 suchte sie auch verchiedene Meisterkurse u.a. bei Christian Altenburger un
 d Dominika Falger.\nAls Mitglied des Webern Symphony Orchestra spielte sie
  u.a. unter der Leitung von Zubin Mehta\, Christoph Eschenbach und Semyon 
 Bychkov. Aktuell ist sie Mitglied der ‚Webern Kammerphilharmonie‘\, st
 udiert Kammermusik bei Professor Johannes Meissl an der Universität für 
 Musik und darstellende Kunst Wien\, und gibt regelmäßig Konzerte im Bere
 ich Kammermusik. Darüber hinaus spielt sie verschiedenste Konzertprogramm
 e mit dem persischen Streichinstrument Kamantsche im Bereich der persische
 n und kurdischen Musik. Sarvin hat jahrelange Erfahrung als Geigenlehrerin
  für Kinder und Erwachsenen und unterrichtet seit 2015 an der Musikschule
  Klangspiele Wien.\n\n\nhttps://www.instagram.com/sarvinhazin/
CATEGORIES:Events
LOCATION:Porgy & Bess\, Riemergasse 11\, Wien\, Wien\, 1010\, Österreich
GEO:48.206833;16.37664
X-APPLE-STRUCTURED-LOCATION;VALUE=URI;X-ADDRESS=Riemergasse 11\, Wien\, Wie
 n\, 1010\, Österreich;X-APPLE-RADIUS=100;X-TITLE=Porgy & Bess:geo:48.2068
 33,16.37664
END:VEVENT
BEGIN:VTIMEZONE
TZID:Europe/Vienna
X-LIC-LOCATION:Europe/Vienna
BEGIN:DAYLIGHT
DTSTART:20260329T030000
TZOFFSETFROM:+0100
TZOFFSETTO:+0200
TZNAME:CEST
END:DAYLIGHT
END:VTIMEZONE
END:VCALENDAR