BEGIN:VCALENDAR
VERSION:2.0
PRODID:-//wp-events-plugin.com//7.2.3.1//EN
TZID:Europe/Vienna
X-WR-TIMEZONE:Europe/Vienna
BEGIN:VEVENT
UID:22089@musicaustria.at
DTSTART;TZID=Europe/Vienna:20260506T190000
DTEND;TZID=Europe/Vienna:20260506T190000
DTSTAMP:20260424T123736Z
URL:https://www.musicaustria.at/veranstaltungen/in-der-strengen-kammer-mus
 ical-bodies-5-alix-eynaudi-golnar-shahyar/
SUMMARY:In der Strengen Kammer: Musical Bodies #5: Alix Eynaudi & Golnar Sh
 ahyar
DESCRIPTION:\n\nMusical Bodies – eine monatliche Serie für Tanz &amp\; M
 usik\n\nDie Tänzerin und Choreografin Naïma Mazic wählt eine:n Wiener T
 änzer:in und eine:n Wiener Jazzmusiker:in aus\, die den Auftrag erhalten\
 , gemeinsam ein Duett von mindestens 30 und maximal 45 Minuten zu kreieren
 .\n\nDie Aufgabe besteht darin\, unbekannte Wege in der Kommunikation von 
 Tanz und Musik zu beschreiten\, einen nicht-hierarchischen Dialog zwischen
  dem Seh- und Hörbaren herzustellen und mindestens einmal einen gemeinsam
 en Puls zu teilen. Es steht den Künstler:innen frei\, ob und wie viel sie
  proben und recherchieren möchten oder ob sie sich erst am Tag der Perfor
 mance begegnen. Nach der Performance findet ein 7-minütiges Publikumsgesp
 räch statt\, in dem die Zuschauer:innen teilen können\, was sie wahrgeno
 mmen haben.\n\nMUSICAL BODIES von more2rhythm ist eine monatliche Serie f
 ür Tanz und Musik im Jahr 2026 in der Strengen Kammer\n\nEinnahmen werden
  an eine karitative Einrichtung gespendet.\n\nAlix Eynaudi dances and work
 s between craft and chaos\, in a (mostly) joyful mess. She doesn’t work 
 alone\; every event\, research\, or invitation becomes an alibi to spend t
 ime with accomplices—a mesh of friendships scintillating under the skin\
 , a stirring of wondrous support. A crowd assembles\, oscillates\, agitate
 s\; workshopping and freeing the textures of the everyday together\, re-as
 sembling the emulsive factors\, the whips that whip the cream: an “undom
 esticated menagerie” (misquoting Mark Foster Gage) of inheritances layer
 ed within each other’s presences\, chewing and tuning frequencies in and
  out of their everydays.\n\nIn other terms\, Alix Eynaudi dances in the fi
 elds of expanded choreography at the intersections of dance\, performance\
 , and artistic research. Her work unfolds through collaborative processes 
 involving movement\, sound\, writing\, rest\, and language. Over recent ye
 ars\, she has presented performances\, long-term research projects\, publi
 shing experiments\, and intimate public formats in theaters\, libraries\, 
 and informal spaces.\n\nGolnar Shahyar is a vocalist\, composer\, and perf
 ormer whose work moves fluidly between concert\, music theatre\, opera\, a
 nd interdisciplinary performance. With a strong focus on collaboration\, s
 he has been involved in numerous dance\, theatre\, and cross-disciplinary 
 productions\, creating and performing music that engages closely with move
 ment\, narrative\, and space.\n\nHer artistic practice is rooted in a deep
  interest in voice as both a musical and expressive medium\, often explori
 ng themes of identity\, memory\, and socio-political realities. Whether on
  stage as a performer or behind the scenes as a composer\, she develops wo
 rks that bridge genres and cultures\, combining elements of jazz\, experim
 ental music\, and storytelling.\n\nGolnar’s projects range from intimate
  concert settings to large-scale productions\, and are characterised by a 
 sensitivity to context\, collective creation\, and the emotional depth of 
 live performance.\n\nAlix Eynaudi: dance\nGolnar Shahyar: vocals\, guitar\
 , piano\n\n\nhttps://www.alixeynaudi.com/\nhttp://www.golnarshahyar.com/
CATEGORIES:Events
LOCATION:Porgy & Bess\, Riemergasse 11\, Wien\, Wien\, 1010\, Österreich
GEO:48.206833;16.37664
X-APPLE-STRUCTURED-LOCATION;VALUE=URI;X-ADDRESS=Riemergasse 11\, Wien\, Wie
 n\, 1010\, Österreich;X-APPLE-RADIUS=100;X-TITLE=Porgy & Bess:geo:48.2068
 33,16.37664
END:VEVENT
BEGIN:VTIMEZONE
TZID:Europe/Vienna
X-LIC-LOCATION:Europe/Vienna
BEGIN:DAYLIGHT
DTSTART:20260329T030000
TZOFFSETFROM:+0100
TZOFFSETTO:+0200
TZNAME:CEST
END:DAYLIGHT
END:VTIMEZONE
END:VCALENDAR