BEGIN:VCALENDAR
VERSION:2.0
PRODID:-//wp-events-plugin.com//7.2.3.1//EN
TZID:Europe/Vienna
X-WR-TIMEZONE:Europe/Vienna
BEGIN:VEVENT
UID:22066@musicaustria.at
DTSTART;TZID=Europe/Vienna:20260514T193000
DTEND;TZID=Europe/Vienna:20260514T193000
DTSTAMP:20260421T121517Z
URL:https://www.musicaustria.at/veranstaltungen/hans-theessink-solo/
SUMMARY:Hans Theessink - SOLO
DESCRIPTION:\n\n\n\nDer Großmeister des Blues ist zurück: Nach mehr als 8
 .000 Konzerten macht Hans Theessink wieder in St. Pölten Station. Mit sei
 ner sonoren Stimme\, seinem unverkennbaren Gitarrenstil und seinem lässig
 en Groove ist der Niederländer und Wahlwiener eine Institution in Sachen 
 Rootsmusik. Sein Markenzeichen? Die gefühlvollen Interpretationen des Sol
 o Acoustic Blues\, mit denen er einen Preis nach dem anderen abräumt.\n\n
 Die US-Presse nannte ihn „einen internationalen Bluesschatz“\, der leg
 endäre Bo Diddley meinte: „Ein höllisch guter Gitarrist“ – und wir
  sagen: „Ein Pflichttermin in der Bühne im Hof!“\n\n\n\n\n
CATEGORIES:Events
LOCATION:Bühne im Hof (BIH)\, Linzer Strasse 18\, St. Pölten\, Niederöst
 erreich\, 3100\, St. Pölten\, Österreich
GEO:48.203049;15.622085
X-APPLE-STRUCTURED-LOCATION;VALUE=URI;X-ADDRESS=Linzer Strasse 18\, St. Pö
 lten\, Niederösterreich\, 3100\, St. Pölten\, Österreich;X-APPLE-RADIUS
 =100;X-TITLE=Bühne im Hof (BIH):geo:48.203049,15.622085
END:VEVENT
BEGIN:VTIMEZONE
TZID:Europe/Vienna
X-LIC-LOCATION:Europe/Vienna
BEGIN:DAYLIGHT
DTSTART:20260329T030000
TZOFFSETFROM:+0100
TZOFFSETTO:+0200
TZNAME:CEST
END:DAYLIGHT
END:VTIMEZONE
END:VCALENDAR