BEGIN:VCALENDAR
VERSION:2.0
PRODID:-//wp-events-plugin.com//7.2.3.1//EN
TZID:Europe/Vienna
X-WR-TIMEZONE:Europe/Vienna
BEGIN:VEVENT
UID:16647@musicaustria.at
DTSTART;TZID=Europe/Vienna:20230504T170000
DTEND;TZID=Europe/Vienna:20230504T193000
DTSTAMP:20230426T084809Z
URL:https://www.musicaustria.at/veranstaltungen/gleichstellung-und-diversi
 taet-im-musikbusiness-2-teiliger-mica-workshop/
SUMMARY:Gleichstellung und Diversität im Musikbusiness – 2-teiliger mica
 -Workshop TEIL 1
DESCRIPTION:Diese Workshopreihe setzt sich mit der Bedeutung von Gleichstel
 lung und Diversität im Musikbusiness auseinander.\nTEIL 1: Herausforderun
 gen und Lösungen für mehr Fairness (Vortrag und Diskussion)\n\nDonnersta
 g 04.05.2023\, 17:00 – 19:30\n\nIm ersten Teil zeigen wir anhand von Zah
 len die aktuellen Entwicklungen und Herausforderungen der Branche in Bezug
  auf Geschlecht\, Ethnizität\, Sexualität und andere Identitätsaspekte 
 um ein Verständnis für die Komplexität der Thematik zu schaffen und das
  Bewusstsein dafür zu schärfen. Ziel ist es\, Lösungsansätze zu finden
 \, um die Vielfalt im Musikbusiness zu fördern und ein integratives Arbei
 tsumfeld zu schaffen.\n\nZielgruppe\nMusiker:innen\, Musikmanager:innen\, 
 Veranstalter:innen\, Agent:innen und andere Akteur:innen im Musikbusiness\
 , die sich für eine inklusive Arbeitsumgebung einsetzen und ihre Kenntnis
 se in diesem Bereich erweitern möchten.\nTeil 2: Gleichstellung im Musikb
 usiness (Workshop)\n\nDienstag 16.05.2023\, 17:00 – 19:30\n\nIm zweiten 
 Teil werden wir uns auf die Situation von Frauen in der Musikwirtschaft ko
 nzentrieren. Wir diskutieren die spezifischen Barrieren und Herausforderun
 gen\, mit sie in der Branche konfrontiert sind und erarbeiten Ideen und St
 rategien\, wie diese überwunden werden können.\n\nDie folgenden Inhalte 
 werden behandelt:\n\n 	Leadership-Fähigkeiten und Herausforderungen für 
 Frauen in der Musikbranche\n 	Reflexion eigener Erfahrungen und Herausford
 erungen in der Musikwirtschaft\n 	Erarbeitung individueller Strategien und
  Lösungen für Frauen in der Branche\n 	Netzwerkbildung und Austausch von
  Erfahrungen und Ressourcen mit anderen Frauen\n 	Vorstellung von Erfolgsg
 eschichten von Frauen in der Musikwirtschaft und Diskussion darüber\, wie
  sie ihre Karrieren aufgebaut und Hindernisse überwunden haben.\n\nHINWEI
 S: Um eine wertschätzende und ungestörte Arbeitsumgebung zu fördern\, i
 st der zweite Termin ausschließlich für FLINTA* (Frauen\, Lesben\, inter
 sexuelle\, nicht-binäre\, trans und agender) bestimmt.\n\nZielgruppe\nMus
 iker:innen\, Musikmanager:innen\, Veranstalter:innen\, Agent:innen und and
 ere Akteur:innen im Musikbusiness\, die sich für eine inklusive Arbeitsum
 gebung einsetzen und ihre Kenntnisse in diesem Bereich erweitern möchten.
 \n\nWir möchten die Teilnehmer:innen ermutigen\, ihre eigenen Ideen und E
 rfahrungen einzubringen und gemeinsam Strategien zu erarbeiten\, um eine B
 ranche zu gestalten\, die für alle Menschen zugänglich und gerecht ist.
 \n\nVortragende/Workshopleiterin bei beiden Veranstaltungen\nTina Ruprecht
 er\n\nAnmeldung unter\noffice@musicaustria.at – Bitte geben Sie an\, an 
 welchem der beiden Termine Sie teilnehmen möchten.
CATEGORIES:Workshops
LOCATION:mica - music austria\, Stiftgasse 29\, Wien\, Wien\, 1070\, Öster
 reich
GEO:48.2031848;16.354097599999932
X-APPLE-STRUCTURED-LOCATION;VALUE=URI;X-ADDRESS=Stiftgasse 29\, Wien\, Wien
 \, 1070\, Österreich;X-APPLE-RADIUS=100;X-TITLE=mica - music austria:geo:
 48.2031848,16.354097599999932
END:VEVENT
BEGIN:VTIMEZONE
TZID:Europe/Vienna
X-LIC-LOCATION:Europe/Vienna
BEGIN:DAYLIGHT
DTSTART:20230326T030000
TZOFFSETFROM:+0100
TZOFFSETTO:+0200
TZNAME:CEST
END:DAYLIGHT
END:VTIMEZONE
END:VCALENDAR