BEGIN:VCALENDAR
VERSION:2.0
PRODID:-//wp-events-plugin.com//7.2.3.1//EN
TZID:Europe/Vienna
X-WR-TIMEZONE:Europe/Vienna
BEGIN:VEVENT
UID:21774@musicaustria.at
DTSTART;TZID=Europe/Vienna:20260510T193000
DTEND;TZID=Europe/Vienna:20260510T193000
DTSTAMP:20260421T072151Z
URL:https://www.musicaustria.at/veranstaltungen/gespraechskonzert-andere-s
 timmen-graz-portraet/
SUMMARY:GESPRÄCHSKONZERT: ANDERE STIMMEN / GRAZ PORTRÄT
DESCRIPTION:„Andere Stimmen“ stellt Sprache ins Zentrum der Musik: Feli
 z Macahis\, international geschätzt für ihre Vokalmusik\, verknüpft in
  ihren Werken ihre Muttersprache Tagalog (Philippinen) mit der Sprache der
  europäischen Vokalmusiktradition. Der in Graz lebende Komponist Akin Ki
 lis entfaltet in seiner Uraufführung phonetic reflections ein vielstimmi
 ges Geflecht aus vier Sprachen\, darunter seine Muttersprache Türkisch. I
 m Dialog mit Renaissance-Polyphonie entsteht so ein Programm\, in dem unte
 rschiedliche Zeiten\, Kulturen und Ausdrucksweisen hörbar werden.\nProgr
 amm:\nCantando Admont\nHelena Sorokina\, Alt (Werke für Stimme Solo)\nCo
 rdula Bürgi\, Musikalische Leitung\nJosquin des Prez – Miserere mei Deu
 s (ca. 1503–1504) für 5 Stimmen\nFeliz Anne Reyes Macahis – d:ua:ta 
 studies (2019) - für Stimme Solo\nFeliz Anne Reyes Macahis – Sainte-C
 ath (2023) - für Stimme Solo\nKünstler:innengespräch (Moderation: Andr
 eas Karl)\nFeliz Anne Reyes Macahis – prologue (2018) für 6 Stimmen\nWi
 lliam Byrd – Infelix ego (ca. 1591) für 4-5 Stimmen\nLink:\nhttps://www
 .cantando-admont.at/event-details/concert-talk-andere-stimmen-graz-portrat
CATEGORIES:Events
LOCATION:Kulturzentrum bei den Minoriten\, Mariahilferplatz 3\, Graz\, Stei
 ermark\, 8020\, Österreich
GEO:47.072581;15.43321
X-APPLE-STRUCTURED-LOCATION;VALUE=URI;X-ADDRESS=Mariahilferplatz 3\, Graz\,
  Steiermark\, 8020\, Österreich;X-APPLE-RADIUS=100;X-TITLE=Kulturzentrum 
 bei den Minoriten:geo:47.072581,15.43321
END:VEVENT
BEGIN:VTIMEZONE
TZID:Europe/Vienna
X-LIC-LOCATION:Europe/Vienna
BEGIN:DAYLIGHT
DTSTART:20260329T030000
TZOFFSETFROM:+0100
TZOFFSETTO:+0200
TZNAME:CEST
END:DAYLIGHT
END:VTIMEZONE
END:VCALENDAR