BEGIN:VCALENDAR
VERSION:2.0
PRODID:-//wp-events-plugin.com//7.2.3.1//EN
TZID:Europe/Vienna
X-WR-TIMEZONE:Europe/Vienna
BEGIN:VEVENT
UID:21972@musicaustria.at
DTSTART;TZID=Europe/Vienna:20260502T193000
DTEND;TZID=Europe/Vienna:20260502T193000
DTSTAMP:20260319T081916Z
URL:https://www.musicaustria.at/veranstaltungen/fuzzman-the-singin-rebels-
 fuzzman-go-home-akustik-konzert/
SUMMARY:Fuzzman & the singin rebels - Fuzzman Go Home - Akustik Konzert
DESCRIPTION:20 Jahre Fuzzman. Time to go home. Im Sinne von: ankommen. Rüc
 kschauhalten\, vielleicht auch ein bisschen feiern. Was war\, was ist\, wa
 s bevorsteht. Die Sterne über Wien stehen gut dafür\, da-dam-dam-dam!\nW
 er für so viele Gassenhauer\, für so viele- mitunter unbequeme - Austro-
 Indie-Pop-Sternstunden der letzten zwei Jahrzehnte verantwortlich ist\, wi
 e Herwig Zamernik\, der darf das. „Fuzzman Go Home“ ist ein Füllhorn\
 , the gift that keeps on giving\, und ein wunderbares\, herrlich-spinnerst
 es Kompendium. Es ist stellenweise wehmütig\, dann wieder irre. Es ist po
 litisch\, wie persönlich\; teils all das in ein und demselben Song. Vor a
 llem aber ist es verständnisvoll\, empathisch und motivierend. So wie der
  Mensch der dahintersteckt. Eine musikalische Begleitung durch wirre Zeite
 n.\n\nHomepage von Fuzzman\nhttps://stadtsaal.com/kuenstler/fuzzman-the-si
 ngin-rebels
CATEGORIES:Events
LOCATION:Stadtsaal\, Mariahilfer Straße 81\, Wien\, Wien\, 1060\, Österre
 ich
GEO:48.197691;16.349291
X-APPLE-STRUCTURED-LOCATION;VALUE=URI;X-ADDRESS=Mariahilfer Straße 81\, Wi
 en\, Wien\, 1060\, Österreich;X-APPLE-RADIUS=100;X-TITLE=Stadtsaal:geo:48
 .197691,16.349291
END:VEVENT
BEGIN:VTIMEZONE
TZID:Europe/Vienna
X-LIC-LOCATION:Europe/Vienna
BEGIN:DAYLIGHT
DTSTART:20260329T030000
TZOFFSETFROM:+0100
TZOFFSETTO:+0200
TZNAME:CEST
END:DAYLIGHT
END:VTIMEZONE
END:VCALENDAR