BEGIN:VCALENDAR
VERSION:2.0
PRODID:-//wp-events-plugin.com//7.2.3.1//EN
TZID:Europe/Vienna
X-WR-TIMEZONE:Europe/Vienna
BEGIN:VEVENT
UID:22073@musicaustria.at
DTSTART;TZID=Europe/Vienna:20260424T200000
DTEND;TZID=Europe/Vienna:20260424T200000
DTSTAMP:20260421T131030Z
URL:https://www.musicaustria.at/veranstaltungen/following-footsteps-albump
 raesentation/
SUMMARY:FOLLOWING FOOTSTEPS (ALBUMPRÄSENTATION)
DESCRIPTION:GERHARD ORNIG: TRUMPET\nEMILIANO SAMPAIO: GUITAR\nHRVOJE KRALJ:
  BASS\nKARLHEINZ MIKLIN JR.: DRUMS\n\nDie Band wurde 2021 von Karlheinz Mi
 klin jr. gegründet und ist das perfekte Vehikel für ihn\, um nach über 
 30jähriger Karriere als Bandmitglied und Sideman erstmals als Leader und 
 Komponist seine ganz persönlichen Vorstellungen von Musik zu verwirkliche
 n Sind die vier Musiker auf ihrem Debut (SWR 149/23) mit Interpretationen 
 je eines Titels von Karlheinz Miklin sen. und The Base noch stärker den g
 anz persönlichen Spuren ihres Leaders gefolgt\, haben sie seitdem durch d
 ie jahrelange intensive Zusammenarbeit einen gemeinsamen und ganz eigenst
 ändigen Sound entwickelt. Dieser basiert vor allem auf den unterschiedlic
 hen musikalischen Wurzeln und Vorlieben der einzelnen Mitglieder des Quart
 etts\, die Miklin auch in seine neuen Kompositionen einfließen lassen hat
 . Nicht zuletzt deshalb findet man auf in the moment hoch energetischen\, 
 swingenden Modern Jazz ebenso wie kammermusikalisch leise Momente und lyri
 sche Balladen. Und (zumindest) der Fuß des Zuhörers bewegt sich zu brasi
 lianischen Rhythmen genauso wie zu groovigem Bogaloo.
CATEGORIES:Events
LOCATION:HOB I RAUM\, Hanuschgasse 1/28A\, Bad Vöslau\, Niederösterreich\
 , 2540\, Bezirk Baden\, Österreich
GEO:47.969448;16.22211
X-APPLE-STRUCTURED-LOCATION;VALUE=URI;X-ADDRESS=Hanuschgasse 1/28A\, Bad V
 öslau\, Niederösterreich\, 2540\, Bezirk Baden\, Österreich;X-APPLE-RAD
 IUS=100;X-TITLE=HOB I RAUM:geo:47.969448,16.22211
END:VEVENT
BEGIN:VTIMEZONE
TZID:Europe/Vienna
X-LIC-LOCATION:Europe/Vienna
BEGIN:DAYLIGHT
DTSTART:20260329T030000
TZOFFSETFROM:+0100
TZOFFSETTO:+0200
TZNAME:CEST
END:DAYLIGHT
END:VTIMEZONE
END:VCALENDAR