BEGIN:VCALENDAR
VERSION:2.0
PRODID:-//wp-events-plugin.com//7.2.3.1//EN
TZID:Europe/Vienna
X-WR-TIMEZONE:Europe/Vienna
BEGIN:VEVENT
UID:21779@musicaustria.at
DTSTART;TZID=Europe/Vienna:20260320T110000
DTEND;TZID=Europe/Vienna:20260320T150000
DTSTAMP:20260217T115242Z
URL:https://www.musicaustria.at/veranstaltungen/fair-pay-in-der-musik-gage
 n-foerderungen-antraege-richtig-angehen/
SUMMARY:Fair Pay in der Musik – Gagen\, Förderungen & Anträge richtig a
 ngehen
DESCRIPTION:In diesem Workshop dreht sich alles um die zentrale Frage: Wie 
 kann ich als Musiker*in meine künstlerische Arbeit realistisch kalkuliere
 n\, selbstbewusst vertreten und nachhaltig finanzieren?\nWir beleuchten ge
 meinsam die Themen Fair Pay\, Gagenverhandlungen sowie Förderungen und An
 träge – praxisnah\, verständlich und direkt anwendbar.\n\nInhalte\n\n 
 	Warum faire Gagenverhandlungen so schwierig wirken – und wie du sie erf
 olgreich führst\n 	Wie sich Honorare zusammensetzen und welche Mindeststa
 ndards gelten\n 	Strategien\, um die eigene Verhandlungsposition zu stärk
 en und souverän mit Einwänden umzugehen\n 	Überblick über relevante F
 örderschienen in Österreich\n 	Richtlinien\, Einreichmodalitäten und hi
 lfreiche Tools für Kosten- und Projektkalkulation\n 	Wie sich die Fair-Pa
 y-Initiative auf zukünftige Fördereinreichungen auswirkt\n\nZiele\n\n 	S
 icherheit im Umgang mit Geld\, Gagen und Förderlogiken gewinnen\n 	Eigene
  Projekte professionell planen und fair kalkulieren können\n 	Mehr Selbst
 bewusstsein in Verhandlungen und Antragstellungen entwickeln\n 	Die Strukt
 uren der Förderlandschaft verstehen und erfolgreich nutzen\n\nWarum teiln
 ehmen?\n\nFaire Bezahlung und nachhaltige Finanzierung sind keine Luxusfra
 gen\, sondern Grundlagen künstlerischer Existenz.\nDieser Workshop verbin
 det finanzielle Kompetenz\, strategisches Denken und kulturelle Praxis –
  für mehr Offenheit\, mehr Sicherheit und mehr Wertschätzung in der Musi
 kbranche.\n\nVortragende\n\nFranziska Wallner\, IGFM\nAntonia Grüner\, mi
 ca - music austria\n\nDieser Workshop ist ausschließlich für Studierende
  der GMPU geöffnet.
CATEGORIES:Workshops
LOCATION:Gustav Mahler Privatuniversität für Musik\, Mießtaler Straße 8
 \, Klagenfurt am Wörthersee\, Kärnten\, 9020\, Österreich
GEO:46.620756;14.313738
X-APPLE-STRUCTURED-LOCATION;VALUE=URI;X-ADDRESS=Mießtaler Straße 8\, Klag
 enfurt am Wörthersee\, Kärnten\, 9020\, Österreich;X-APPLE-RADIUS=100;X
 -TITLE=Gustav Mahler Privatuniversität für Musik:geo:46.620756,14.313738
END:VEVENT
BEGIN:VTIMEZONE
TZID:Europe/Vienna
X-LIC-LOCATION:Europe/Vienna
BEGIN:STANDARD
DTSTART:20251026T020000
TZOFFSETFROM:+0200
TZOFFSETTO:+0100
TZNAME:CET
END:STANDARD
END:VTIMEZONE
END:VCALENDAR