BEGIN:VCALENDAR
VERSION:2.0
PRODID:-//wp-events-plugin.com//7.2.3.1//EN
TZID:Europe/Vienna
X-WR-TIMEZONE:Europe/Vienna
BEGIN:VEVENT
UID:22114@musicaustria.at
DTSTART;TZID=Europe/Vienna:20260509T193000
DTEND;TZID=Europe/Vienna:20260509T193000
DTSTAMP:20260424T132149Z
URL:https://www.musicaustria.at/veranstaltungen/eva-moreno-trio-love-die-s
 prachen-der-liebe/
SUMMARY:Eva Moreno Trio - Love: Die Sprachen der Liebe
DESCRIPTION:Liebe ist international\, bunt und vielsprachig. Eva Moreno bes
 ingt sie auf Spanisch\, Französisch\, Englisch und Deutsch – immer mit 
 Hingabe und einer Intensität\, die jeden Song zum Erlebnis macht.\n\nAn i
 hrer Seite: Gitarrist Jörg Seidel und Bassist Joschi Schneeberger\, zwei 
 Musiker mit jahrzehntelanger Erfahrung und unzähligen Jazz-Kollaboratione
 n. Seidel\, lange mit Bill Ramsey unterwegs und seit 2017 auf Tour mit Ron
  Williams\, gehört zu den versiertesten Vertretern des swingenden Jazz. S
 chneeberger\, Träger des Österreichischen Verdienstkreuzes für seine Ve
 rdienste um Jazz und Wienerlied\, ist der umtriebigste Bassist Österreich
 s\, der bereits US-Stars wie Kevin Mahogany und Clark Terry begleitet hat.
 \n\nIn diesem kammermusikalischen Trio finden sie zu einer Einheit\, die S
 wing\, Bossa Nova und Samba zu einem dichten\, farbenreichen Klangteppich 
 verbindet – der perfekte Boden\, auf dem Eva Moreno ihre Stimme voll ent
 falten kann.\n\nEva Moreno – Stimme\, Jörg Seidel – Gitarre\, Stimme\
 , Joschi Schneeberger – Bass
CATEGORIES:Events
LOCATION:Sargfabrik\, Goldschlagstraße 169\, Wien\, Wien\, 1140\, Österre
 ich
GEO:48.195046;16.304747
X-APPLE-STRUCTURED-LOCATION;VALUE=URI;X-ADDRESS=Goldschlagstraße 169\, Wie
 n\, Wien\, 1140\, Österreich;X-APPLE-RADIUS=100;X-TITLE=Sargfabrik:geo:48
 .195046,16.304747
END:VEVENT
BEGIN:VTIMEZONE
TZID:Europe/Vienna
X-LIC-LOCATION:Europe/Vienna
BEGIN:DAYLIGHT
DTSTART:20260329T030000
TZOFFSETFROM:+0100
TZOFFSETTO:+0200
TZNAME:CEST
END:DAYLIGHT
END:VTIMEZONE
END:VCALENDAR