BEGIN:VCALENDAR
VERSION:2.0
PRODID:-//wp-events-plugin.com//7.2.3.1//EN
TZID:Europe/Vienna
X-WR-TIMEZONE:Europe/Vienna
BEGIN:VEVENT
UID:22091@musicaustria.at
DTSTART;TZID=Europe/Vienna:20260507T203000
DTEND;TZID=Europe/Vienna:20260507T203000
DTSTAMP:20260424T123937Z
URL:https://www.musicaustria.at/veranstaltungen/ethel-merhaut-a-touch-of-p
 aradise-songs-of-a-new-world/
SUMMARY:Ethel Merhaut 'A Touch of Paradise – Songs of a new world'
DESCRIPTION:\n\nDie vielseitige Sängerin Ethel Merhaut hat sich in den ver
 gangenen Jahren intensiv dem Repertoire der 1920er- und 1930er-Jahre gewid
 met. Ausgebildet im klassischen Gesang\, bewegt sie sich heute bewusst zwi
 schen Chanson\, Unterhaltungsmusik und Jazz und versteht diese Musik nicht
  als nostalgischen Rückblick\, sondern als lebendiges Material für die G
 egenwart.\n\nMit A Touch of Paradise richtet sie den Fokus auf englischspr
 achige Songs von Kurt Weill\, Friedrich Hollaender und Walter Jurmann – 
 Komponisten\, die Europa verlassen mussten und in den USA ein neues künst
 lerisches Leben begannen. Am Broadway und in Hollywood entstanden Lieder\,
  die europäische Raffinesse mit amerikanischem Drive verbinden.\n\nGemein
 sam mit ihrem Jazz-Quartett interpretiert Ethel Merhaut diese Songs neu un
 d lädt das Publikum zu einer modernen Zeitreise ein.\n\nEthel Merhaut: vo
 cals\nMarc Osterer: trumpet\nJulian Wohlmuth: guitar\nBelush Korényi: pia
 no\nClemens Gigacher: bass\nJörg Mikula: drums\n\n\nhttps://www.ethelmerh
 aut.com/
CATEGORIES:Events
LOCATION:Porgy & Bess\, Riemergasse 11\, Wien\, Wien\, 1010\, Österreich
GEO:48.206833;16.37664
X-APPLE-STRUCTURED-LOCATION;VALUE=URI;X-ADDRESS=Riemergasse 11\, Wien\, Wie
 n\, 1010\, Österreich;X-APPLE-RADIUS=100;X-TITLE=Porgy & Bess:geo:48.2068
 33,16.37664
END:VEVENT
BEGIN:VTIMEZONE
TZID:Europe/Vienna
X-LIC-LOCATION:Europe/Vienna
BEGIN:DAYLIGHT
DTSTART:20260329T030000
TZOFFSETFROM:+0100
TZOFFSETTO:+0200
TZNAME:CEST
END:DAYLIGHT
END:VTIMEZONE
END:VCALENDAR