BEGIN:VCALENDAR
VERSION:2.0
PRODID:-//wp-events-plugin.com//7.2.3.1//EN
TZID:Europe/Vienna
X-WR-TIMEZONE:Europe/Vienna
BEGIN:VEVENT
UID:22093@musicaustria.at
DTSTART;TZID=Europe/Vienna:20260510T203000
DTEND;TZID=Europe/Vienna:20260510T203000
DTSTAMP:20260424T124228Z
URL:https://www.musicaustria.at/veranstaltungen/emiliano-sampaio-jazz-orch
 estra/
SUMMARY:Emiliano Sampaio Jazz Orchestra
DESCRIPTION:\n\nNachdem ich 2015 mein erstes Big-Band-Album Tourists aufgen
 ommen hatte\, schwor ich mir\, nie wieder ein weiteres zu machen. Ich war 
 völlig erschöpft – in derselben Woche entdeckte ich sogar meine ersten
  grauen Haare! Doch schon zwei Jahre später stand ich erneut im Studio\, 
 und bis 2021 hatte ich sogar mein erstes jazz-sinfonisches Projekt veröff
 entlicht.\n\nDas Leben überrascht mich immer wieder mit schönen Momenten
 \, Herausforderungen und Schwierigkeiten – Erfahrungen\, die wir alle te
 ilen. Genau darum geht es in diesem neuen Album. Diese Kompositionen sind 
 in den letzten Jahren entstanden\, gereift und nun in dieser Aufnahme fest
 gehalten. Jedes Stück ruft Erinnerungen wach und spiegelt unterschiedlich
 e Phasen meiner jüngsten Reise wider – besondere Augenblicke und inspir
 ierende Menschen\, denen ich begegnen durfte.\n\nIch freue mich auf die ko
 mmenden Momente mit LIFE und darauf\, diese Musik live zu teilen – gespi
 elt von dieser fantastischen Band voller wunderbarer Menschen und herausra
 gender Musikerinnen und Musiker.\n\nEnjoy! (Emiliano Sampaio)\n\nEmiliano 
 Sampaio: conductor\, composer\nMarc Osterer\, Gerhard Ornig\, Christoph Pf
 eiffer\, Jakob Helling: trumpets\nÁdám Ladányi\, Karel Eriksson\, Alexa
 nder Ladreiter\, Johannes Oppel: trombones\nSebastian Gerhartz\, Patrick D
 unst\, Robert Unterköfler\, Tobias Hoffmann\, Kira Linn: reeds\nMichael L
 agger: piano\, keyboards\nThomas Wilding: bass\nLuis Oliveira: drums\n\n\n
 https://www.emilianosampaio.com
CATEGORIES:Events
LOCATION:Porgy & Bess\, Riemergasse 11\, Wien\, Wien\, 1010\, Österreich
GEO:48.206833;16.37664
X-APPLE-STRUCTURED-LOCATION;VALUE=URI;X-ADDRESS=Riemergasse 11\, Wien\, Wie
 n\, 1010\, Österreich;X-APPLE-RADIUS=100;X-TITLE=Porgy & Bess:geo:48.2068
 33,16.37664
END:VEVENT
BEGIN:VTIMEZONE
TZID:Europe/Vienna
X-LIC-LOCATION:Europe/Vienna
BEGIN:DAYLIGHT
DTSTART:20260329T030000
TZOFFSETFROM:+0100
TZOFFSETTO:+0200
TZNAME:CEST
END:DAYLIGHT
END:VTIMEZONE
END:VCALENDAR