BEGIN:VCALENDAR
VERSION:2.0
PRODID:-//wp-events-plugin.com//7.2.3.1//EN
TZID:Europe/Vienna
X-WR-TIMEZONE:Europe/Vienna
BEGIN:VEVENT
UID:22115@musicaustria.at
DTSTART;TZID=Europe/Vienna:20260512T193000
DTEND;TZID=Europe/Vienna:20260512T193000
DTSTAMP:20260424T132300Z
URL:https://www.musicaustria.at/veranstaltungen/eldis-la-rosa-group-along-
 the-way/
SUMMARY:Eldis La Rosa Group - Along the Way
DESCRIPTION:Vor zwanzig Jahren gegründet\, kehrt die legendäre Eldis La R
 osa Group nun auf die Bühne zurück – mit frischer Energie und dem unve
 rwechselbaren Klang Kubas im Gepäck. Der kubanische Multiinstrumentalist 
 Eldis La Rosa bringt den Cuban Jazz in Österreich wieder zum Glühen.\n\n
 Seit der Veröffentlichung seines Albums Trotando (2006)\, inspiriert von 
 Paquito D’Riveras grenzenlosem Latin Jazz\, hat La Rosa seinen Stil weit
 erentwickelt: kraftvolle kubanische Traditionen treffen auf zeitgenössisc
 he Grooves\, jazzige Freiheit und improvisatorischen Spielwitz.\n\nAls ein
 zige Cuban-Jazz-Formation Österreichs meldet sich die Eldis La Rosa Group
  mit gereiften Kompositionen und einem pulsierenden Bandsound zurück – 
 ein Comeback\, das die ganze Wärme\, Intensität und Farbenpracht des Cub
 an Jazz feiert.\n\nEldis La Rosa – Saxophon\, Flöte\, Perkussion\, Stim
 me\, Ariel Ramírez – Gitarre\, Gregor Aufmesser – Bass\, Victor Fuent
 es – Perkussion\, Mathias Holzner – Schlagzeug\n\nwww.eldislarosa.com
CATEGORIES:Events
LOCATION:Sargfabrik\, Goldschlagstraße 169\, Wien\, Wien\, 1140\, Österre
 ich
GEO:48.195046;16.304747
X-APPLE-STRUCTURED-LOCATION;VALUE=URI;X-ADDRESS=Goldschlagstraße 169\, Wie
 n\, Wien\, 1140\, Österreich;X-APPLE-RADIUS=100;X-TITLE=Sargfabrik:geo:48
 .195046,16.304747
END:VEVENT
BEGIN:VTIMEZONE
TZID:Europe/Vienna
X-LIC-LOCATION:Europe/Vienna
BEGIN:DAYLIGHT
DTSTART:20260329T030000
TZOFFSETFROM:+0100
TZOFFSETTO:+0200
TZNAME:CEST
END:DAYLIGHT
END:VTIMEZONE
END:VCALENDAR