BEGIN:VCALENDAR
VERSION:2.0
PRODID:-//wp-events-plugin.com//7.2.3.1//EN
TZID:Europe/Vienna
X-WR-TIMEZONE:Europe/Vienna
BEGIN:VEVENT
UID:21607@musicaustria.at
DTSTART;TZID=Europe/Vienna:20260423T200000
DTEND;TZID=Europe/Vienna:20260423T200000
DTSTAMP:20260109T083102Z
URL:https://www.musicaustria.at/veranstaltungen/diknu-schneeberger-christi
 an-bakanic-quartett/
SUMMARY:Diknu Schneeberger & Christian Bakanic Quartett
DESCRIPTION:\n\n"Django Unchained" titelte einmal die Süddeutsche Zeitung 
 über Diknu Schneeberger\, der mit seinem atemberaubenden Gitarrenspiel da
 s Erbe des großen Django Reinhardt in die Zukunft führt. Was für ein Gl
 ücksfall\, dass sich Schneebergers musikalische Wege mit jenen von Spitze
 n-Akkordeonist Christian Bakanic gekreuzt haben.\n\n\n\n\nDie beiden versc
 hmelzen mit ihrer überbordenden Spielfreude Gypsy-Swing\, lässigen Jazz 
 und neue Volksmusik zu einer hinreißenden musikalischen Melange. Gitarre 
 und steirische Harmonika haben sich noch nie so gut vertragen!\n\nDie Basi
 s für die kreativen Höhenflüge bilden Julian Wohlmuth an der Rhythmusgi
 tarre und Martin Heinzle am Kontrabass. Höchstes musikalisches Niveau und
  der Schmäh kommt auf der Bühne auch nicht zu kurz. Oder wie ihr Album h
 eißt: "Avanti Avanti".\n\nDiknu Schneeberger (Solo-Gitarre)\, Christian B
 akanic (Akkordeon)\, Julian Wohlmuth (Rhythmus-Gitarre)\, Martin Heinzle (
 Kontrabass)\n\n
CATEGORIES:Events
LOCATION:Cinema Paradiso\, Rathausplatz 14\, St. Pölten\, Niederösterreic
 h\, 3100\, Österreich
GEO:48.205559;15.623617
X-APPLE-STRUCTURED-LOCATION;VALUE=URI;X-ADDRESS=Rathausplatz 14\, St. Pölt
 en\, Niederösterreich\, 3100\, Österreich;X-APPLE-RADIUS=100;X-TITLE=Cin
 ema Paradiso:geo:48.205559,15.623617
END:VEVENT
BEGIN:VTIMEZONE
TZID:Europe/Vienna
X-LIC-LOCATION:Europe/Vienna
BEGIN:DAYLIGHT
DTSTART:20260329T030000
TZOFFSETFROM:+0100
TZOFFSETTO:+0200
TZNAME:CEST
END:DAYLIGHT
END:VTIMEZONE
END:VCALENDAR