BEGIN:VCALENDAR
VERSION:2.0
PRODID:-//wp-events-plugin.com//7.2.3.1//EN
TZID:Europe/Vienna
X-WR-TIMEZONE:Europe/Vienna
BEGIN:VEVENT
UID:14885@musicaustria.at
DTSTART;TZID=Europe/Vienna:20220326T100000
DTEND;TZID=Europe/Vienna:20220326T190000
DTSTAMP:20220310T112514Z
URL:https://www.musicaustria.at/veranstaltungen/die-welt-ist-eine-scheibe-
 music-and-the-recording-business-von-der-planung-ueber-die-herstellung-bis
 -hin-zur-vermarktung-tag-2/
SUMMARY:Die Welt ist eine Scheibe -  MUSIC AND THE RECORDING BUSINESS – V
 ON DER PLANUNG ÜBER DIE HERSTELLUNG BIS HIN ZUR VERMARKTUNG. (Tag 2)
DESCRIPTION:Die Entwicklung der Musik des 20. Jahrhunderts und des Jazz im 
 Speziellen ist auf das Engste verbunden mit der Entwicklung des Tonträger
 s und der Tonträgerindustrie. Und wenn auch die Bedeutung der verschieden
 en Speichermedien (von der Schellack\, über die Vinylschallplatte\, bis h
 in zur CD und zur Serverfarm) einem stetigen Wandel unterlief\, so hat sic
 h neben der Wiedererweckung der LP die CD als digitales\, haptisch erfahrb
 ares Medium - ungeachtet zurückgehender allgemeiner Verbreitung - bis jet
 zt als Medium erhalten.\n\nIm Workshop "Die Welt ist eine Scheibe" am 25. 
 &amp\; 26.03.2022 an der Kunstuniversität Graz beantworten Expert*innen a
 us der Musikbranche alle Fragen rund ums Recording Business.\n\nPROGRAMM\n
 \n10:00 – 11:30 „Record Distribution In The Digital Age” Über aktue
 lle Vertriebsplattformen (physisch\, Streaming\, Download)\, Preisgestaltu
 ng und Promotion Aktivitäten. // Daniel Dinkel\, Fürstenfeldbruck (Galil
 eo Music Communication GmbH)\n\n&nbsp\;\n\n11:45 – 13:15 „It’s The E
 conomy\, Stupid!” Do’s and Don’ts in der Promoarbeit: Wie gestalte i
 ch einen professionellen Waschzettel? Welche Tools benötige ich für eine
  adäquate Künstler*innen- und/oder Tonträgerpromotion? // Jürgen Rotte
 nsteiner\, Wien (Rottensteiner Promotions)\n\n14:30 – 16:00 „D.I.Y. - 
 Selbstvermarktung im Musikbusiness“ Radio\, TV\, Print\, Web\, Social Me
 dia // Christoph Gruber\, Wien (mica - music austria)\n\n16:15 – 17:15 2
 . Zusammenkunft der Kleingruppen. Revision der am Freitag gestellten Aufga
 benstellung und Diskussion im Plenum. // Moderation: Heinrich von Kalnein\
 n\n17:30 – 19:00 Podiumsdiskussion „Where Are We Going?“ // Moderati
 on: Heinrich von Kalnein\n\n- Stefano Amerio\n- Dr. Rainer Beck\n- Daniel 
 Dinkel\n- Christoph Gruber\n- Roland Hanslmeier (Band Granada)\n- Simon Re
 ithofer\n- Jürgen Rottensteiner\n\nHier geht's zum Video dazu auf dem You
 tube Kanal der Kunstuniversität Graz: https://www.youtube.com/watch?v=NXu
 nI6AGrls\n\nKursbeitrag\n\n0€* | 59€** | 99€\n*Studierende und Absol
 vent*innen der KUG bis 5 Jahre nach dem letzten Studienabschluss\n**ermä
 ßigt für Absolvent*innen der KUG ab 5 Jahre nach dem letzten Studienabsc
 hluss/Bedienstete der KUG/Studierende oder Schüler*innen einer anderen Bi
 ldungseinrichtung\n\nSichern Sie sich Ihren Platz für den Workshop und me
 lden Sie sich gleich an: Online-Anmeldeformular\n\nWenn Sie Fragen an die 
 Veranstalter haben oder mehr zum Ablauf erfahren möchten\, schreiben Sie 
 ein E-Mail: csc@kug.ac.at
CATEGORIES:Workshops
LOCATION:WIST\, Moserhofgasse 34\, Graz\, Steiermark\, 8010\, Österreich
GEO:47.0604765;15.455410400000005
X-APPLE-STRUCTURED-LOCATION;VALUE=URI;X-ADDRESS=Moserhofgasse 34\, Graz\, S
 teiermark\, 8010\, Österreich;X-APPLE-RADIUS=100;X-TITLE=WIST:geo:47.0604
 765,15.455410400000005
END:VEVENT
BEGIN:VTIMEZONE
TZID:Europe/Vienna
X-LIC-LOCATION:Europe/Vienna
BEGIN:STANDARD
DTSTART:20211031T020000
TZOFFSETFROM:+0200
TZOFFSETTO:+0100
TZNAME:CET
END:STANDARD
END:VTIMEZONE
END:VCALENDAR