BEGIN:VCALENDAR
VERSION:2.0
PRODID:-//wp-events-plugin.com//7.2.3.1//EN
TZID:Europe/Vienna
X-WR-TIMEZONE:Europe/Vienna
BEGIN:VEVENT
UID:17365@musicaustria.at
DTSTART;TZID=Europe/Vienna:20231007T140000
DTEND;TZID=Europe/Vienna:20231007T163000
DTSTAMP:20230929T065731Z
URL:https://www.musicaustria.at/veranstaltungen/die-musikbranche-in-der-kl
 imakrise/
SUMMARY:Die Musikbranche in der Klimakrise
DESCRIPTION:Wie kann eine grüne Musikbranche aussehen? Wie funktionieren n
 achhaltige Konzerttourneen und Festivals? Was können Künstler:innen\, Po
 litiker:innen und die Musikindustrie zum ökologischen Wandel beitragen? I
 m Rahmen von Vorträgen und Diskussionen sprechen Speaker:innen und Kultur
 arbeiter:innen am 7. Oktober im mica darüber\, wie die Musikbranche der K
 limakrise entgegnen kann. Die Veranstaltung zeigt unterschiedliche Möglic
 hkeiten\, die Musikbranche nachhaltiger zu gestalten und bietet Raum für 
 Austausch.\nPROGRAMM:\nVortrag: Nachhaltige Festivals – Best Practice\nP
 aulina Parvanov (Musikmanagerin und Obfrau von Music Declares Emergency A
 ustria)\n\nVortrag: Das Potenzial künstlerisch-kultureller Betätigung f
 ür eine nachhaltige Entwicklung\nSigrid Kroismayr (Soziologin\, WU Wien)
 \n\nPodium: Wie kann eine ökologisch-gerechte Musikbranche aussehen?\nSon
 ja Maier (Künstlerin bei Baits)\nHannes Cistota (Director bei WUK Musik
 )\nMeena Lang (Bundesministerium für Kunst\, Kultur\, öffentlicher Die
 nst &amp\; Sport)\n\nModeration\nVerena Mischitz (freie Journalistin und 
 Sprecherin des Netzwerks Klimajournalismus)\n\nDatum: 7. Oktober 2023 | 14
 .00 – 16.30\nOrt: Seminarraum mica\, Stiftgasse 29\, 1070 Wien\nAnmeldun
 g: www.ntry.at/DMIDK (kostenlos)\n\nAusführlicher Zeitplan
CATEGORIES:Workshops
LOCATION:mica - music austria\, Stiftgasse 29\, Wien\, Wien\, 1070\, Öster
 reich
GEO:48.2031848;16.354097599999932
X-APPLE-STRUCTURED-LOCATION;VALUE=URI;X-ADDRESS=Stiftgasse 29\, Wien\, Wien
 \, 1070\, Österreich;X-APPLE-RADIUS=100;X-TITLE=mica - music austria:geo:
 48.2031848,16.354097599999932
END:VEVENT
BEGIN:VTIMEZONE
TZID:Europe/Vienna
X-LIC-LOCATION:Europe/Vienna
BEGIN:DAYLIGHT
DTSTART:20230326T030000
TZOFFSETFROM:+0100
TZOFFSETTO:+0200
TZNAME:CEST
END:DAYLIGHT
END:VTIMEZONE
END:VCALENDAR