BEGIN:VCALENDAR
VERSION:2.0
PRODID:-//wp-events-plugin.com//7.2.3.1//EN
TZID:Europe/Vienna
X-WR-TIMEZONE:Europe/Vienna
BEGIN:VEVENT
UID:16600@musicaustria.at
DTSTART;TZID=Europe/Vienna:20230516T163000
DTEND;TZID=Europe/Vienna:20230516T193000
DTSTAMP:20230329T092221Z
URL:https://www.musicaustria.at/veranstaltungen/die-hoerminute-fuer-lehrer
 innen-online-workshop/
SUMMARY:Webinar: Die Hörminute für Lehrer:innen
DESCRIPTION:Die Hörminute bietet eine einfache und effektive Methode\, ein
 e neue Hörkultur in die Klasse einzuführen\, die neugieriges\, beteiligt
 es und reflektiertes Zuhören ermöglicht. Als eine strukturierte – im b
 esten Falle tägliche – Aktivität können LehrerInnen und SchülerInnen
  eine große Bandbreite an klanglichen Erfahrungen machen. Das Programm gi
 bt den Kindern die Möglichkeit\, ihrer Fantasie freien Lauf zu lassen\, d
 a es keine richtige oder falsche Antwort gibt\, wenn über subjektive Hör
 eindrücke gesprochen wird.\n\nUm die Hörminute in ihrer ganzen Vielfalt 
 kennenzulernen\, bieten wir ein Webinar für Lehrer:innen an. Hier werden 
 einfach umsetzbare Übungen gezeigt\, Herausforderungen in der Anwendung b
 esprochen\, Kontakte gepflegt\, Anregungen gesammelt und vieles mehr.\n\nR
 eferentinnen: Veronika Grossberger und Marie-Therese Rudolph\nAnmeldung un
 ter office@musicaustria.at\nDer Zoom-Link wird allen Angemeldeten kurz vor
  dem Workshop zugesandt.\nDie Teilnahme ist kostenlos!
CATEGORIES:Workshops
END:VEVENT
BEGIN:VTIMEZONE
TZID:Europe/Vienna
X-LIC-LOCATION:Europe/Vienna
BEGIN:DAYLIGHT
DTSTART:20230326T030000
TZOFFSETFROM:+0100
TZOFFSETTO:+0200
TZNAME:CEST
END:DAYLIGHT
END:VTIMEZONE
END:VCALENDAR