BEGIN:VCALENDAR
VERSION:2.0
PRODID:-//wp-events-plugin.com//7.2.3.1//EN
TZID:Europe/Vienna
X-WR-TIMEZONE:Europe/Vienna
BEGIN:VEVENT
UID:21974@musicaustria.at
DTSTART;TZID=Europe/Vienna:20260515T193000
DTEND;TZID=Europe/Vienna:20260515T193000
DTSTAMP:20260319T082212Z
URL:https://www.musicaustria.at/veranstaltungen/der-nino-aus-wien-milan-be
 govic-lieder-im-spiegelbild/
SUMMARY:Der Nino aus Wien & Milan Begovic - Lieder im Spiegel(bild)
DESCRIPTION:Der vielleicht poetischste Liedermacher seiner Generation tritt
  im STADTSAAL auf eine für ihn völlig neue Weise auf - begleitet am Klav
 ier von Milan Begovic.\n\nDie Gitarre bleibt zu Hause\, mitgenommen wird d
 er eine oder andere Schubert. Und vor allem ein völlig neu beleuchtetes 
 eigenes Werk.\n\nHomepage von Der Nino aus Wien\nHomepage von Milan Begovi
 c\nhttps://stadtsaal.com/kuenstler/der-nino-aus-wien-milan-begovic-
CATEGORIES:Events
LOCATION:Stadtsaal\, Mariahilfer Straße 81\, Wien\, Wien\, 1060\, Österre
 ich
GEO:48.197691;16.349291
X-APPLE-STRUCTURED-LOCATION;VALUE=URI;X-ADDRESS=Mariahilfer Straße 81\, Wi
 en\, Wien\, 1060\, Österreich;X-APPLE-RADIUS=100;X-TITLE=Stadtsaal:geo:48
 .197691,16.349291
END:VEVENT
BEGIN:VTIMEZONE
TZID:Europe/Vienna
X-LIC-LOCATION:Europe/Vienna
BEGIN:DAYLIGHT
DTSTART:20260329T030000
TZOFFSETFROM:+0100
TZOFFSETTO:+0200
TZNAME:CEST
END:DAYLIGHT
END:VTIMEZONE
END:VCALENDAR