BEGIN:VCALENDAR
VERSION:2.0
PRODID:-//wp-events-plugin.com//7.2.3.1//EN
TZID:Europe/Vienna
X-WR-TIMEZONE:Europe/Vienna
BEGIN:VEVENT
UID:22078@musicaustria.at
DTSTART;TZID=Europe/Vienna:20260515T201500
DTEND;TZID=Europe/Vienna:20260515T201500
DTSTAMP:20260423T121911Z
URL:https://www.musicaustria.at/veranstaltungen/david-kurt-the-stonelake-s
 ubstance-felix/
SUMMARY:David Kurt & the Stonelake Substance\, FELIX
DESCRIPTION:David Kurt ist ein Wiener Singer-Songwriter\, der gemeinsam mit
  seiner Band David Kurt &amp\; the Stonelake Substance Folkrock &amp\; -po
 p auf die Bühne bringt\, der direkt ins Herz trifft. Seine Songs bewegen 
 sich zwischen leisen Momenten voller Verletzlichkeit und mitreißenden Hym
 nen\, die nach Gemeinschaft\, Freiheit und Ausbruch klingen.Mit ehrlichen 
 Texten\, die Geschichten von Nähe\, Verlust\, Freundschaft und Neubeginn 
 erzählen\, schafft er eine besondere Verbindung zum Publikum. Ein Konzert
  von David Kurt &amp\; the Stonelake Substance ist kein bloßes Zuhören 
 – es ist ein gemeinsames Erleben\, das Gänsehaut und befreiende Energie
  zugleich schenkt.'\nFelix\, war das nicht ein Sugo für Nudeln? Nein\, ni
 cht nur! Drei Tiroler Musiker finden sich seit 20 Jahren regelmäßig zusa
 mmen\, um ihre Erfahrung in eingängigen und emotionalen Songs von Pop bis
  Rock zu bündeln\, dominiert von einer besonderen Stimme\, have a listen!
 \nTickets: https://eventfrog.at/davidkurtundfelix
CATEGORIES:Events
LOCATION:Loop\, Lerchenfelder Gürtel Stadtbahnbogen 26/27\, Wien\, Wien\, 
 1080\, Österreich
GEO:48.21746;16.342056
X-APPLE-STRUCTURED-LOCATION;VALUE=URI;X-ADDRESS=Lerchenfelder Gürtel Stadt
 bahnbogen 26/27\, Wien\, Wien\, 1080\, Österreich;X-APPLE-RADIUS=100;X-TI
 TLE=Loop:geo:48.21746,16.342056
END:VEVENT
BEGIN:VTIMEZONE
TZID:Europe/Vienna
X-LIC-LOCATION:Europe/Vienna
BEGIN:DAYLIGHT
DTSTART:20260329T030000
TZOFFSETFROM:+0100
TZOFFSETTO:+0200
TZNAME:CEST
END:DAYLIGHT
END:VTIMEZONE
END:VCALENDAR