BEGIN:VCALENDAR
VERSION:2.0
PRODID:-//wp-events-plugin.com//7.2.3.1//EN
TZID:Europe/Vienna
X-WR-TIMEZONE:Europe/Vienna
BEGIN:VEVENT
UID:22012@musicaustria.at
DTSTART;TZID=Europe/Vienna:20260417T203000
DTEND;TZID=Europe/Vienna:20260417T203000
DTSTAMP:20260401T135515Z
URL:https://www.musicaustria.at/veranstaltungen/christian-marien-quartett-
 beyond-the-fingertips/
SUMMARY:Christian Marien Quartett - "Beyond the Fingertips"
DESCRIPTION:Das Christian Marien Quartett lädt ein zum Record Release des 
 neuen Albums Beyond the Fingertips. Es ist eine Direct-to-Disc-Produktion\
 , ohne Schnitt\, ohne Nachbearbeitung\, in einem einzigen\, unwiederholbar
 en Durchlauf ins Vinyl geritzt. Ganz im Hier und Jetzt. So sind auch die K
 onzerte des Quartetts. Voller Risikofreude und Spielwitz öffnen die Musik
 er einen Raum\, in dem alles wahr sein darf – auch der Irrtum und das Un
 perfekte. Sie bewegen sich in einem Spannungsfeld zwischen Struktur und Fr
 eiheit\, Abstraktion und Swing\, Chaos und Ruhe. Christian Marien hat mit 
 Antonio Borghini\, Jasper Stadhouders und Tobias Delius phantastische Impr
 ovisatoren versammelt\, deren Können auch darin besteht\, loszulassen und
  dem Moment zu vertrauen. Die Musik entsteht dann an einem Ort\, den man n
 icht festhalten kann – beyond the fingertips.\n\nBesetzung:\nTobias Deli
 us: Tenorsaxophon\, Klarinette\nJasper Stadhouders: Gitarre\nAntonio Borgh
 ini: Kontrabass\nChristian Marien: Schlagzeug
CATEGORIES:Events
LOCATION:Jazzit\, Elisabethstrasse 11\, Salzburg\, Salzburg\, 5020\, Öster
 reich
GEO:47.812053;13.041602
X-APPLE-STRUCTURED-LOCATION;VALUE=URI;X-ADDRESS=Elisabethstrasse 11\, Salzb
 urg\, Salzburg\, 5020\, Österreich;X-APPLE-RADIUS=100;X-TITLE=Jazzit:geo:
 47.812053,13.041602
END:VEVENT
BEGIN:VTIMEZONE
TZID:Europe/Vienna
X-LIC-LOCATION:Europe/Vienna
BEGIN:DAYLIGHT
DTSTART:20260329T030000
TZOFFSETFROM:+0100
TZOFFSETTO:+0200
TZNAME:CEST
END:DAYLIGHT
END:VTIMEZONE
END:VCALENDAR