BEGIN:VCALENDAR
VERSION:2.0
PRODID:-//wp-events-plugin.com//7.2.3.1//EN
TZID:Europe/Vienna
X-WR-TIMEZONE:Europe/Vienna
BEGIN:VEVENT
UID:22051@musicaustria.at
DTSTART;TZID=Europe/Vienna:20260507T210000
DTEND;TZID=Europe/Vienna:20260507T210000
DTSTAMP:20260409T114452Z
URL:https://www.musicaustria.at/veranstaltungen/christian-fetish-egoism-wh
 at/
SUMMARY:Christian Fetish + eGOisM-whAT
DESCRIPTION:CHRISTIAN FETISH \n\n\n\nCHRISTIAN FETISH heißt das Alter Ego
  des österreichischen Musikers Christian Fuchs\, der 2026 zu seinen Wurze
 ln im Industrial Rock\, Electropunk und Gothpop zurückkehrt. Bekannt als 
 Sänger und "Bühnentier" (Der Falter) der legendären Band Fetish 69 in d
 en 1990er Jahren\, mit Alben wie „Antibody“ und „Purge“\, begeiste
 rte Fuchs das weltweite Publikum mit rohen\, theatralischen Auftritten. Na
 chdem er sich mit Bunny Lake dem dekadenten Electropop\, mit Die Buben Im 
 Pelz morbiden Velvet-Underground-artigen Vibes und mit Black Palms Orchest
 ra cineastischen Klanglandschaften widmete\, holt Christian Fuchs sein Jug
 end-Alter-Ego CHRISTIAN FETISH aus der Versenkung. Gleichzeitig erfindet e
 r sich neu\, mit Songs\, die existenzielle Themen und klangliche Intensit
 ät\, harte Gitarren und Dance-Beats miteinander verbinden. Das Album "Aur
 a Nera" wird im Frühjahr 2026 auf Noise Appeal Records erscheinen.    U
 nd dann ist da die Liveumsetzung\, inklusive Mitstreiterinnen wie Medina R
 ekic (Ex-White Miles) in zentraler Position. Als Teenager gehörte Christi
 an Fuchs zu den Gründungsmitgliedern der Graz-Wiener Gothic-Szene. "Mich 
 reizt es an Konzerte anzuschließen\, die mich damals weggeblasen haben\, 
 als dieser Mix aus Industrial\, Rock und Electro wirklich gefährlich schi
 en"\, formuliert er seine Ambitionen. Poppig\, brutal und intensiv zugleic
 h ist die Bühnenshow geplant\, mit schwarzem Leder und Trockeneis darf be
 i CHRISTIAN FETISH gerechnet werden. Pressestimmen "Musik\, die in einen H
 ollywood-Blockbuster passen würde\, direkt im Abspann von JOHN WICK" (Dea
 dline\, D)   "Postpunkiger Pessimissmus\, leidenschaftlicher Roadmovie-Ro
 ck und hypnotisch-romantischer Industrial" (The Gap\, A)   Wer schon imme
 r Fan von FETISH 69 war\, kann hier blind zugreifen\, aber auch allen ande
 ren Freunden genannten Stils sei „Aura Nera" sehr ans dunkle Herz gelegt
 . (SLAM Music Magazine)\n\neGOism whAT:\n\nEin außergewöhnlicher Bandnam
 e erfordert eine Band mit eigenwilligem Sound. Das ist eGOisM-whAT? aus In
 nsbruck! Mit wuchtigen Drums\, E-Bass und einer Portion Elektro erzeugen d
 ie Ladies auch ohne E-Gitarre einen druckvollen\, etwas düsteren und tanz
 baren Sound\, der die Zuhörer: innen staunen lässt. In den Texten des Po
 wer Duos spiegelt sich das Leben wider.  Emotionen\, Dramen und die schö
 ne Seite des Lebens\, alles was man vielleicht selbst bereits erlebt hat o
 der erleben wird. Das Genre könnte man als New Wave/Alternative Rock beze
 ichnen\,  wobei sich die Ladies nicht in einer Richtung festlegen\, aber 
 die Einflüsse  der 80er sind unverkennbar.\n\n
CATEGORIES:Events
LOCATION:p.m.k.\, Viaduktbogen 19-20\, Innsbruck\, Tirol\, 6020\, Österrei
 ch
GEO:47.266068;11.402099
X-APPLE-STRUCTURED-LOCATION;VALUE=URI;X-ADDRESS=Viaduktbogen 19-20\, Innsbr
 uck\, Tirol\, 6020\, Österreich;X-APPLE-RADIUS=100;X-TITLE=p.m.k.:geo:47.
 266068,11.402099
END:VEVENT
BEGIN:VTIMEZONE
TZID:Europe/Vienna
X-LIC-LOCATION:Europe/Vienna
BEGIN:DAYLIGHT
DTSTART:20260329T030000
TZOFFSETFROM:+0100
TZOFFSETTO:+0200
TZNAME:CEST
END:DAYLIGHT
END:VTIMEZONE
END:VCALENDAR