BEGIN:VCALENDAR
VERSION:2.0
PRODID:-//wp-events-plugin.com//7.2.3.1//EN
TZID:Europe/Vienna
X-WR-TIMEZONE:Europe/Vienna
BEGIN:VEVENT
UID:22079@musicaustria.at
DTSTART;TZID=Europe/Vienna:20260424T150000
DTEND;TZID=Europe/Vienna:20260424T150000
DTSTAMP:20260423T122849Z
URL:https://www.musicaustria.at/veranstaltungen/cantando-admont-benediktin
 erstift-st-lambrecht/
SUMMARY:Cantando Admont: Benediktinerstift St. Lambrecht
DESCRIPTION:Umrahmung der Neueröffnung des Museums: In den zahlreichen Rä
 umen des Stifts St. Lamprecht entfaltet sich das Ensemble gleichsam wie ei
 n Geflecht aus Klangsäulen. Es entsteht eine choreografierte Raumkomposit
 ion mit Musik aus 400 Jahren Vokalmusikgeschichte\, in die das Publikum ei
 ngebunden ist – geleitet von den Blick- und Hörachsen\, die durch Archi
 tektur und Akustik der Räume vorgegeben sind.\n\nCantando Admont:\nElina 
 Viluma-Helling\, Sopran\nCornelia Sonnleithner\, Alt\nThomas Köll\, Tenor
 \nUlfried Staber\, Bass\nCordula Bürgi\, Musikalische Leitung\n\nLink:\nh
 ttps://www.cantando-admont.at/event-details/ausstellungseroffnung-was-ist-
 der-mensch
CATEGORIES:Events
LOCATION:Benediktinerstift St. Lambrecht\, Hauptstraße 1\, Sankt Lambrecht
 \, Steiermark\, 8813\, Bezirk Murau\, Österreich
GEO:47.071628;14.300097
X-APPLE-STRUCTURED-LOCATION;VALUE=URI;X-ADDRESS=Hauptstraße 1\, Sankt Lamb
 recht\, Steiermark\, 8813\, Bezirk Murau\, Österreich;X-APPLE-RADIUS=100;
 X-TITLE=Benediktinerstift St. Lambrecht:geo:47.071628,14.300097
END:VEVENT
BEGIN:VTIMEZONE
TZID:Europe/Vienna
X-LIC-LOCATION:Europe/Vienna
BEGIN:DAYLIGHT
DTSTART:20260329T030000
TZOFFSETFROM:+0100
TZOFFSETTO:+0200
TZNAME:CEST
END:DAYLIGHT
END:VTIMEZONE
END:VCALENDAR