BEGIN:VCALENDAR
VERSION:2.0
PRODID:-//wp-events-plugin.com//7.2.3.1//EN
TZID:Europe/Vienna
X-WR-TIMEZONE:Europe/Vienna
BEGIN:VEVENT
UID:22061@musicaustria.at
DTSTART;TZID=Europe/Vienna:20260601T180000
DTEND;TZID=Europe/Vienna:20260601T193000
DTSTAMP:20260416T122614Z
URL:https://www.musicaustria.at/veranstaltungen/burn-but-dont-burn-out-wel
 lbeing-in-the-music-biz/
SUMMARY:Burn\, but don´t burn out! - Wellbeing in the Music-Biz
DESCRIPTION:Musik machen ist mehr als einfach nur ein Job. Musik Ist Leiden
 schaft. Musik ist Kreativität und Identität. Musik ist Freude. Deshalb n
 ehmen Musiker:innen Tag für Tag einiges auf sich. Sie brennen förmlich f
 ür ihre Leidenschaft.\nDemgegenüber sind Ängste und Depressionen unter 
 Musiker:innen viermal häufiger als in der restlichen Bevölkerung\, wie d
 ie auf Musik spezialisierte Psychologin Rosana Corbacho unlängst in einem
  mica-Interview verriet. Das Risiko also ist beträchtlich\, und die Grün
 de dafür liegen auf der Hand: Nach einer harten Ausbildung finden sich Mu
 siker:innen in einer von starkem Wettbewerb geprägten Szene wieder. Es gi
 bt kaum Lobbys\, wenig Vernetzung. Die soziale Lage ist oft prekär\, und 
 der Druck wird als Teil des Jobs empfunden.\nWo aber ist die Grenze? Wo f
 ängt der Einsatz an\, ungesund zu werden? Wann hört man auf zu brennen u
 nd beginnt auszubrennen? Wie bleibt man trotz Stress kreativ und erfolgrei
 ch?\n\nDer Musiker und Jurist Dan Cortney erklärt in diesem Workshop\, wi
 e man seine persönlichen Grenzen erkennt\, wie man dann Grenzen setzt\, w
 ie man „Nein“ sagt\, ohne ein schlechtes Gewissen zu haben. Er verrät
  Tipps und Tricks\, wie man sein „Wohlbefinden“ priorisiert und trotzd
 em wettbewerbsfähig bleibt.\nDer Workshop richtet sich an Musiker:innen\,
  die trotz Stress gesund und kreativ bleiben wollen.\n\n&nbsp\;\n\nWann? 1
 . Juni 2026\, [17:00 – 18:30]\nWo? MICA Seminarraum.\n\nVortragender/Pre
 senter: Dan Courtney (The Unlabelled Group\, Open Cards\, ERNST). Der Vort
 rag ist deutsch und englisch.\n\n&nbsp\;\n\nDie Teilnahme ist kostenlos. D
 ie Teilnehmer:innenzahl ist begrenzt\, deshalb verbindliche Anmeldung unte
 r:\n\nhttps://secure.dialog-mail.de/pf/510/EBcBb\n\n\n\n\n\n\nTeilnehmer:i
 nnen bekommen nach der Anmeldung automatisch eine Bestätigung und den Zoo
 m Link geschickt.\n\n++++\n\n\n\n\n\n\n\n\n\n\n\n\n\n\n\n\n\n\n\n\n\n\n\n\
 n\n\n\n\n\n\n\n\n\n\n\n\n\n\n\n\n\n\n\n\n\n\n\n\n\n\n\n\n\n\n\n\n\n\n\n\n\
 n\n\n\n\n\n\n\n
CATEGORIES:Workshops
LOCATION:mica - music austria\, Stiftgasse 29\, Wien\, Wien\, 1070\, Öster
 reich
GEO:48.2031848;16.354097599999932
X-APPLE-STRUCTURED-LOCATION;VALUE=URI;X-ADDRESS=Stiftgasse 29\, Wien\, Wien
 \, 1070\, Österreich;X-APPLE-RADIUS=100;X-TITLE=mica - music austria:geo:
 48.2031848,16.354097599999932
END:VEVENT
BEGIN:VTIMEZONE
TZID:Europe/Vienna
X-LIC-LOCATION:Europe/Vienna
BEGIN:DAYLIGHT
DTSTART:20260329T030000
TZOFFSETFROM:+0100
TZOFFSETTO:+0200
TZNAME:CEST
END:DAYLIGHT
END:VTIMEZONE
END:VCALENDAR