BEGIN:VCALENDAR
VERSION:2.0
PRODID:-//wp-events-plugin.com//7.2.3.1//EN
TZID:Europe/Vienna
X-WR-TIMEZONE:Europe/Vienna
BEGIN:VEVENT
UID:22028@musicaustria.at
DTSTART;TZID=Europe/Vienna:20260424T200000
DTEND;TZID=Europe/Vienna:20260424T200000
DTSTAMP:20260401T143647Z
URL:https://www.musicaustria.at/veranstaltungen/bruther/
SUMMARY:Bruther
DESCRIPTION:Mit ihrer groovigen Melange aus Blues- und Psychedelic Rock hab
 en sich Bruther in den vergangenen Jahren den Ruf als eine der mitreißend
 sten Livebands in ganz Österreich erspielt. Eine sofort ansteckende Energ
 ie\, die das Wiener Quintett auf seinem kommenden Debütalbum „Kaleidosc
 ope“ kanalisiert hat.\n\nInspiriert vom Sound der späten 1960er und `70
 er Jahre hat sich die 2019 gegründete Combo einen ganz eigenen Klangkosmo
 s erschaffen\, mit dem Bruther ein generationsübergreifendes Publikum aus
  jungen und junggeblieben Blues und Rockfans gleichermaßen begeistern. Na
 ch unzähligen Gigs und einer gefeierten Tournee durch Österreich und Deu
 tschland schlagen Bruther nun das nächste Kapitel auf.\n\n2026 geht Bruth
 er mit ihrem neuen Album Kaleidoscope auf Österreich und Deutschland Tour
 . Mit ihren Singles „Hello“ „Bye Bye“ und „Lovin‘“ konnte Br
 uther auf diversen internationalen und nationalen Radiostationen Airplay e
 rzielen.\n\nIm Jahr 2024 erschien die Single „Milky Way“ mit Musikvide
 o und Live-Session. Sie wurde auf Austrozone als „Song des Tages“ und 
 auf newnoize als „Rockvideo der Woche“ vorgestellt. Der ORF bewarb ihr
  letztes Konzert 2024 als Event-Tipp.\n\nMit „One More Song“ (2023) er
 reichte Bruther ein größeres Publikum\, füllte Clubs wie das B72 und da
 s Chelsea und sammelte zehntausende Streams. Die Debüt-EP „Bird in Hand
  Lane“ wurde im Dezember 2021 veröffentlicht und markiert Bruthers Eins
 tieg in die Musikszene. Bruther steht bei dem deutschen Label „On Stage 
 Records“ unter Vertrag und arbeitet seit 2022 mit dem österreichischen 
 Grammy-Award-Gewinner und Produzenten Georg Luksch zusammen.\n\nBruther is
 t moderner Blues Rock\, getragen von dreckigen Gitarrenriffs\, wirbelnder 
 Hammond-Orgel\, kraftvollen Drums und den markanten Vocals von Frontfrau I
 rina Radovic und verbinden Einflüsse früher Rock- und Pop-Pioniere wie d
 en Rolling Stones\, Pink Floyd oder Kate Bush zu einem eigenständigen\, z
 eitgemäß interpretierten Signaturesound\,
CATEGORIES:Events
LOCATION:Alter Schlachthof Wels\, Dragonerstraße 22\, Wels\, Oberösterrei
 ch\, 4600\, Österreich
GEO:48.158522;14.017457
X-APPLE-STRUCTURED-LOCATION;VALUE=URI;X-ADDRESS=Dragonerstraße 22\, Wels\,
  Oberösterreich\, 4600\, Österreich;X-APPLE-RADIUS=100;X-TITLE=Alter Sch
 lachthof Wels:geo:48.158522,14.017457
END:VEVENT
BEGIN:VTIMEZONE
TZID:Europe/Vienna
X-LIC-LOCATION:Europe/Vienna
BEGIN:DAYLIGHT
DTSTART:20260329T030000
TZOFFSETFROM:+0100
TZOFFSETTO:+0200
TZNAME:CEST
END:DAYLIGHT
END:VTIMEZONE
END:VCALENDAR