BEGIN:VCALENDAR
VERSION:2.0
PRODID:-//wp-events-plugin.com//7.2.3.1//EN
TZID:Europe/Vienna
X-WR-TIMEZONE:Europe/Vienna
BEGIN:VEVENT
UID:17355@musicaustria.at
DTSTART;TZID=Europe/Vienna:20230923T133000
DTEND;TZID=Europe/Vienna:20230923T150000
DTSTAMP:20230920T071827Z
URL:https://www.musicaustria.at/veranstaltungen/berufsfeld-musikerin/
SUMMARY:Berufsfeld Musiker*in
DESCRIPTION:mica - music austria ist die zentrale Anlaufstelle für Musiksc
 haffende in Österreich und bietet als professioneller Partner ein umfasse
 ndes Service- und Beratungsangebot für Musikschaffende. Dieser Workshop g
 ibt einen Einblick in das Ökosystem der Musikindustrie und wichtige Tipps
  für die Karriereplanung.\n\nInterne Veranstaltung für Lehrer:innen der 
 Kärtner Musikschulen sowie Professor:innen der Gustav Mahler Privatuniver
 sität für Musik im Rahmen des Exzellenzcluster.\n\nKeine Anmeldung mögl
 ich.
CATEGORIES:Workshops
LOCATION:Gustav Mahler Privatuniversität für Musik\, Mießtaler Straße 8
 \, Klagenfurt am Wörthersee\, Kärnten\, 9020\, Österreich
GEO:46.620756;14.313738
X-APPLE-STRUCTURED-LOCATION;VALUE=URI;X-ADDRESS=Mießtaler Straße 8\, Klag
 enfurt am Wörthersee\, Kärnten\, 9020\, Österreich;X-APPLE-RADIUS=100;X
 -TITLE=Gustav Mahler Privatuniversität für Musik:geo:46.620756,14.313738
END:VEVENT
BEGIN:VTIMEZONE
TZID:Europe/Vienna
X-LIC-LOCATION:Europe/Vienna
BEGIN:DAYLIGHT
DTSTART:20230326T030000
TZOFFSETFROM:+0100
TZOFFSETTO:+0200
TZNAME:CEST
END:DAYLIGHT
END:VTIMEZONE
END:VCALENDAR