BEGIN:VCALENDAR
VERSION:2.0
PRODID:-//wp-events-plugin.com//7.2.3.1//EN
TZID:Europe/Vienna
X-WR-TIMEZONE:Europe/Vienna
BEGIN:VEVENT
UID:21243@musicaustria.at
DTSTART;TZID=Europe/Vienna:20251013T143000
DTEND;TZID=Europe/Vienna:20251013T153000
DTSTAMP:20260120T082731Z
URL:https://www.musicaustria.at/veranstaltungen/basiswissen-label-hybris-i
 m-mica-und-via-zoom/
SUMMARY:Basiswissen: Label (online via Zoom)
DESCRIPTION:Was macht ein Label eigentlich genau? Brauche ich eins oder kan
 n ich das auch selbst? In diesem Workshop bekommst du einen klaren Überbl
 ick über Aufgaben\, Strukturen und Entscheidungsprozesse von Musiklabels\
 ,  von Releaseplanung über Promotion bis zu Rechte-Management. Du lernst
 \, wie Labels arbeiten\, welche Modelle es gibt (Major vs. Indie vs. Selfr
 elease) und worauf du achten solltest\, wenn du selbst ein Label gründen 
 willst oder über eine Zusammenarbeit nachdenkst.\nPatrick Tilg\n\n\n\n\nC
 o-Labelgründer von Feber Wolle records\, A&amp\;R\, Producer\, Musiker\n\
 n- seit 2011: als Artist aktiv in Bands wie Vormärz\, Picobello oder voll
 virus.\n\n- 2017 bis 2023: erst Redakteur\, dann Redaktionsleiter vom Musi
 kmagazin Backbeat\n- seit 2020: A&amp\;R und Produzent beim Indie-Label &a
 mp\; Tonstudio Feber Wolle records\n\n&nbsp\;\n\n- Praktika bei Radio Supe
 rfly und Musiktheatertage Wien\n- BA in Vergleichender Literaturwissenscha
 ft\n- MA in Theater-\, Film- und Medienwissenschaft\n\n\n\nFeber Wolle Rec
 ords\n\n\n\n\nDas Indie-Label Feber Wolle records sorgt seit Anfang der 20
 20er für feinsten Stoff aus der heimischen Musikszene und ist seitdem ei
 n Hafen für Nischen-Pop und Indie-Herzen. Die Musik von Künstler:innen w
 ie kleinabaoho\, Elastic Skies oder LEETA entsteht meistens im Label In-Ho
 use Studio\, welches aktuell im Otto Wagner Areal einquartiert ist. Feber
  Wolle ist kein Genre-Label\, es ist viel mehr die Idee und die Liebe zu g
 uter\, gerne auch verschrobener Pop-Musik\, die den roten Faden zieht.\n\n
 \n\nWo? mica\, music austria\, Stiftgasse 29\, 1070 Wien und\n\nvia Zoom. 
 Der Zoomlink wird nach erfolgreicher Anmeldung verschickt\n\nAnmeldelink: 
 https://secure.dialog-mail.de/pf/510/kKbEd\n\nTeilnehmer:innen bekommen na
 ch der Anmeldung automatisch eine Bestätigung und den Zoom Link geschickt
 .\n\n++++\n\n
CATEGORIES:Workshops
END:VEVENT
BEGIN:VTIMEZONE
TZID:Europe/Vienna
X-LIC-LOCATION:Europe/Vienna
BEGIN:DAYLIGHT
DTSTART:20250330T030000
TZOFFSETFROM:+0100
TZOFFSETTO:+0200
TZNAME:CEST
END:DAYLIGHT
END:VTIMEZONE
END:VCALENDAR