BEGIN:VCALENDAR
VERSION:2.0
PRODID:-//wp-events-plugin.com//7.2.3.1//EN
TZID:Europe/Vienna
X-WR-TIMEZONE:Europe/Vienna
BEGIN:VEVENT
UID:21821@musicaustria.at
DTSTART;TZID=Europe/Vienna:20260318T180000
DTEND;TZID=Europe/Vienna:20260318T180000
DTSTAMP:20260309T102344Z
URL:https://www.musicaustria.at/veranstaltungen/auskennen-im-musikbusiness
 -wie-finde-ich-mich-im-musikgeschaeft-zurecht-in-kooperation-mit-dem-rockh
 ouse-salzburg/
SUMMARY:Auskennen im Musikbusiness: Wie finde ich mich im Musikgeschäft zu
 recht (in Kooperation mit dem Rockhouse Salzburg)
DESCRIPTION:\n\n\n\nMit Anmeldung wegen begrenzter Teilnehmeranzahl!\n\nIhr
  könnt euch unter academy@rockhouse.at für den Workshop anmelden. Die An
 meldung ist verbindlich aber kostenlos. Bitte eine Mobilnummer angeben.\n\
 n\nmit Bertram Kolar (töchtersöhne)\n&amp\; Markus Deisenberger (mica - 
 music austria)\n\n\n++++\n\nWie finde ich mich im Musikgeschäft zurecht 
 – und wie baue ich mir Schritt für Schritt eine nachhaltige Karriere au
 f? In diesem Workshop geht’s genau darum: Bertram Kolar von der Musikman
 agement Agenutr töchtersöhne (u.a. AVEC\, Folkshilfe\, Granada\, Julian 
 Le Play\, Krautschädl\, Lemo\, Pizzera &amp\; Jaus\, Mother's Cake) teilt
  im Gespräch mit Michael Ternai (mica – music austria) persönliche Ein
 blicke in seinen Arbeitskontext.\nWas läuft hinter den Kulissen ab? Was h
 ilft wirklich weiter – und was eher nicht? Es geht um Erfahrungen\, Stol
 persteine und Learnings aus der Praxisarbeit als Booker\, Agent und Manage
 r von Musikprojekten.\nNeben dem Gespräch gibt’s auch wertvolles Basisw
 issen für deinen Weg als Musikschaffende:r:- Förderungen &amp\; Finanzie
 rung- Medienarbeit &amp\; Sichtbarkeit- DIY-Vertrieb &amp\; Selbstvermarkt
 ung über Social Media und PlattformenDabei werden zahlreiche Optionen auf
 gezeigt\, wie Musikschaffende auch ohne großes Budget ihre Musik erfolgre
 ich selbst vermarkten können.\n++++\nBertram Kolar\n\n\n\n\nBertram Kolar
  ist Mitgründer der Musikagentur Töchtersöhne. In der Heavy-Rock-Szene 
 verwurzelt\, sammelte er früh Erfahrung als Musiker und entwickelte sich 
 parallel zum Veranstalter. Mit der Gründung von Töchtersöhne verlagerte
  sich der Fokus konsequent auf das Live-Geschäft.  Seine Schwerpunkte li
 egen im Bereich Booking\, Tourplanung und Eventorganisation – von der st
 rategischen Konzeption bis zur Umsetzung auf der Bühne. Als Booker arbeit
 et er unter anderem mit folkshilfe\, Pizzera &amp\; Jaus und LEMO sowie za
 hlreichen weiteren Acts. Neben einem breit aufgestellten Netzwerk verfügt
  Kolar über fundierte Expertise in Live-Strukturen und nachhaltigem Küns
 tleraufbau im zeitgenössischen Musikmarkt und gibt Einblicke in die tägl
 iche Arbeit einer modernen Musikagentur.\n\n\nhttps://toechtersoehne.org\n
 \n\n\n
CATEGORIES:Workshops
LOCATION:Rockhouse\, Schallmooser Hauptstraße 46\, Salzburg\, Salzburg\, 5
 020\, Österreich
GEO:47.806921;13.058989
X-APPLE-STRUCTURED-LOCATION;VALUE=URI;X-ADDRESS=Schallmooser Hauptstraße 4
 6\, Salzburg\, Salzburg\, 5020\, Österreich;X-APPLE-RADIUS=100;X-TITLE=Ro
 ckhouse:geo:47.806921,13.058989
END:VEVENT
BEGIN:VTIMEZONE
TZID:Europe/Vienna
X-LIC-LOCATION:Europe/Vienna
BEGIN:STANDARD
DTSTART:20251026T020000
TZOFFSETFROM:+0200
TZOFFSETTO:+0100
TZNAME:CET
END:STANDARD
END:VTIMEZONE
END:VCALENDAR