BEGIN:VCALENDAR
VERSION:2.0
PRODID:-//wp-events-plugin.com//7.2.3.1//EN
TZID:Europe/Vienna
X-WR-TIMEZONE:Europe/Vienna
BEGIN:VEVENT
UID:21188@musicaustria.at
DTSTART;TZID=Europe/Vienna:20251217T183000
DTEND;TZID=Europe/Vienna:20251217T183000
DTSTAMP:20250916T124359Z
URL:https://www.musicaustria.at/veranstaltungen/auskennen-im-musikbusiness
 -mit-yasmo/
SUMMARY:AUSKENNEN IM MUSIKBUSINESS mit Yasmo
DESCRIPTION:\nMit Anmeldung wegen begrenzter Teilnehmeranzahl!\n\n\n\nIhr k
 önnt euch unter academy@rockhouse.at für den Workshop anmelden. Die Anme
 ldung ist verbindlich aber kostenlos. Bitte eine Mobilnummer angeben.\n\n\
 n\nAUSKENNEN IM MUSIKBUSINESS mit Yasmo\n\n\n\nWie finde ich mich im Musik
 geschäft zurecht – und wie baue ich mir Schritt für Schritt eine nachh
 altige Karriere auf? In diesem Workshop geht’s genau darum: Yasmin Hafed
 h alias Yasmo teilt im Gespräch mit Dominik Beyer (mica – music austria
 ) persönliche Einblicke in ihre Laufbahn – ehrlich\, praxisnah und ohne
  Schnickschnack.\n\n\nWas läuft hinter den Kulissen ab? Was hilft wirklic
 h weiter – und was eher nicht? Yasmo spricht offen über Erfahrungen\, 
 Stolpersteine und Learnings aus ihrer Arbeit als Musikerin\, Autorin und B
 ühnenprofi.\n\n\nNeben dem Gespräch gibt’s auch wertvolles Basiswissen
  für deinen Weg als Musikschaffende:r:- Förderungen &amp\; Finanzierung-
  Medienarbeit &amp\; Sichtbarkeit- DIY-Vertrieb &amp\; Selbstvermarktung 
 über Social Media und Plattformen\nDabei werden zahlreiche Optionen aufge
 zeigt\, wie Musikschaffende auch ohne großes Budget ihre Musik erfolgreic
 h selbst vermarkten können.\n\n\nWann?\n\n 	17.12.2025\; 18:30 Uhr\n\nWo?
 \n\n 	Rockhouse (Seminarraum)\n\nVortragende:\n\n 	Yasmin Hafedh alias Yas
 mo im Gespräch mit Dominik Beyer (mica – music austria)\n\n\nAnmeldung 
 unter academy@rockhouse.at\n\n&nbsp\;\n\nDieser Workshop findet in Koopera
 tion mit der Rockhouse Academy statt.\n\n&nbsp\;\n\nWir lieben Musik\n\n++
 ++\n\n\n
CATEGORIES:Workshops
LOCATION:Rockhouse Salzburg / Seminarraum\, Schallmooser Hauptstraße 46\, 
 Salzburg\, Salzburg\, 5020\, Österreich
GEO:47.806887;13.058917
X-APPLE-STRUCTURED-LOCATION;VALUE=URI;X-ADDRESS=Schallmooser Hauptstraße 4
 6\, Salzburg\, Salzburg\, 5020\, Österreich;X-APPLE-RADIUS=100;X-TITLE=Ro
 ckhouse Salzburg / Seminarraum:geo:47.806887,13.058917
END:VEVENT
BEGIN:VTIMEZONE
TZID:Europe/Vienna
X-LIC-LOCATION:Europe/Vienna
BEGIN:STANDARD
DTSTART:20251026T020000
TZOFFSETFROM:+0200
TZOFFSETTO:+0100
TZNAME:CET
END:STANDARD
END:VTIMEZONE
END:VCALENDAR