BEGIN:VCALENDAR
VERSION:2.0
PRODID:-//wp-events-plugin.com//7.2.3.1//EN
TZID:Europe/Vienna
X-WR-TIMEZONE:Europe/Vienna
BEGIN:VEVENT
UID:21136@musicaustria.at
DTSTART;TZID=Europe/Vienna:20251015T183000
DTEND;TZID=Europe/Vienna:20251015T183000
DTSTAMP:20250905T113559Z
URL:https://www.musicaustria.at/veranstaltungen/auskennen-im-musikbusiness
 -mit-texta/
SUMMARY:AUSKENNEN IM MUSIKBUSINESS mit Texta
DESCRIPTION:\nWie funktioniert das Musikbusiness abseits der Bühne? Was br
 aucht es\, um langfristig dranzubleiben – und was sollte man über Förd
 erungen\, Vertrieb\, Medienarbeit &amp\; Co. wirklich wissen?\n\n\n\nIm Ra
 hmen dieses Workshops sprechen die Linzer Hip-Hop-Veteranen Texta mit Domi
 nik Beyer (mica – music austria) über ihren Weg als unabhängige Rap-Cr
 ew\, wie sie sich über Jahrzehnte im Musikgeschäft behauptet haben – u
 nd was sich heute für junge Acts verändert hat.\nDazu gibt’s praxisnah
 es Know-how rund um:\n- Fördermöglichkeiten und Finanzierung\n- Medienpr
 äsenz und Öffentlichkeitsarbeit- Vertrieb\, Selbstvermarktung und Social
  Media- Tools &amp\; Strategien für eine nachhaltige Musikkarriere – au
 ch mit begrenztem Budget\nEgal ob du gerade erst loslegst oder schon Erfah
 rung hast – hier bekommst du ehrliche Einblicke\, praktische Tipps und R
 aum für deine Fragen.\n\n\n\n&nbsp\;\n\nWann?\n\n 	15.10.2025\; 18:30 Uhr
 \n\nWo?\n\n 	Rockhouse (Seminarraum)\n\nVortragende:\n\n 	Texta Crew im Ge
 spräch mit Dominik Beyer (mica – music austria)\n\nAnmeldung unter http
 s://www.rockhouse.at/Veranstaltungen//rockhouse-academy-mica-auskennen-im-
 musikbusiness-mit-texta::5433\n\n&nbsp\;\n\nDieser Workshop findet in Koop
 eration mit der Rockhouse Academy statt.\n\n&nbsp\;\n\nWir lieben Musik\n\
 n++++\n\n\n\n\n
CATEGORIES:Workshops
LOCATION:Rockhouse Salzburg / Seminarraum\, Schallmooser Hauptstraße 46\, 
 Salzburg\, Salzburg\, 5020\, Österreich
GEO:47.806887;13.058917
X-APPLE-STRUCTURED-LOCATION;VALUE=URI;X-ADDRESS=Schallmooser Hauptstraße 4
 6\, Salzburg\, Salzburg\, 5020\, Österreich;X-APPLE-RADIUS=100;X-TITLE=Ro
 ckhouse Salzburg / Seminarraum:geo:47.806887,13.058917
END:VEVENT
BEGIN:VTIMEZONE
TZID:Europe/Vienna
X-LIC-LOCATION:Europe/Vienna
BEGIN:DAYLIGHT
DTSTART:20250330T030000
TZOFFSETFROM:+0100
TZOFFSETTO:+0200
TZNAME:CEST
END:DAYLIGHT
END:VTIMEZONE
END:VCALENDAR