BEGIN:VCALENDAR
VERSION:2.0
PRODID:-//wp-events-plugin.com//7.2.3.1//EN
TZID:Europe/Vienna
X-WR-TIMEZONE:Europe/Vienna
BEGIN:VEVENT
UID:21387@musicaustria.at
DTSTART;TZID=Europe/Vienna:20251206T100000
DTEND;TZID=Europe/Vienna:20251206T100000
DTSTAMP:20251126T124921Z
URL:https://www.musicaustria.at/veranstaltungen/auskennen-im-musikbusiness
 -auf-der-mdw-podium-academy-2025/
SUMMARY:Auskennen im Musikbusiness auf der MDW-PODIUM ACADEMY 2025
DESCRIPTION:\nDie Universität für Musik und darstellende Kunst Wien – m
 dw lädt junge Musikbegeisterte aus Wien\, die sich 2024 zum Bundeswettbew
 erb qualifiziert haben und jene\, welche 2025 beim Landeswettbewerb in Wie
 n antreten werden\, zur mdw-podium academy: jazz.pop.rock.experience 2025 
 ein. Dieses exklusive Angebot richtet sich an talentierte Nachwuchsmusiker
 *innen der Altersgruppen III\, IV\, V und V+.\n\n\nInhalte\nIn diesem Work
 shop geht es genau darum: David Buder (Matches Music) gibt im Gespräch mi
 t Dominik Beyer (mica – music austria) persönliche Einblicke in seinen 
 Arbeitsalltag im Musikbusiness und zeigt\, wie professionelle Strukturen h
 inter einer Musikkarriere aussehen können.\n&nbsp\;\nInhalte &amp\; Schwe
 rpunkte\n\n\n 	\nKarriereaufbau: langfristige Strategien\, Positionierung 
 und nächste sinnvolle Schritte\n\n 	\nEinnahmequellen: Überblick über v
 erschiedene Einkommensströme jenseits von Konzertgagen\n\n 	\nVerlagsarbe
 it: Rolle von Musikverlagen\, Zusammenarbeit und typische Abläufe\n\n\n&n
 bsp\;\nZielgruppe &amp\; Ziele\nDer Workshop richtet sich an Musiker:innen
  und Studierende\, die einen realitätsnahen und zeitgemäßen Einblick in
  den Berufsalltag von Musikschaffenden bekommen möchten.\nZiel ist es\, v
 erständlich zu machen\, wie der Alltag im Musikgeschäft tatsächlich aus
 sieht – und welche Einnahmequellen abseits der Bühne zum Aufbau einer n
 achhaltigen Karriere beitragen können.\n&nbsp\;\n\nSprecher: David Buder 
 (Matches Music)\n\nModeration: Dominik Beyer (mica - music austria)\n\n&nb
 sp\;\n\nAnmeldung: Der Workshop richtet sich ausschließlich an Teilnehme
 r der MDW-PODIUM ACADEMY 2025.
CATEGORIES:Workshops
LOCATION:mdw - Universität für Musik und darstellende Kunst\, Anton-von-W
 ebern-Platz 1\, Wien\, Wien\, 1030\, Österreich
GEO:48.201799;16.38476579999997
X-APPLE-STRUCTURED-LOCATION;VALUE=URI;X-ADDRESS=Anton-von-Webern-Platz 1\, 
 Wien\, Wien\, 1030\, Österreich;X-APPLE-RADIUS=100;X-TITLE=mdw - Universi
 tät für Musik und darstellende Kunst:geo:48.201799,16.38476579999997
END:VEVENT
BEGIN:VTIMEZONE
TZID:Europe/Vienna
X-LIC-LOCATION:Europe/Vienna
BEGIN:STANDARD
DTSTART:20251026T020000
TZOFFSETFROM:+0200
TZOFFSETTO:+0100
TZNAME:CET
END:STANDARD
END:VTIMEZONE
END:VCALENDAR