BEGIN:VCALENDAR
VERSION:2.0
PRODID:-//wp-events-plugin.com//7.2.3.1//EN
TZID:Europe/Vienna
X-WR-TIMEZONE:Europe/Vienna
BEGIN:VEVENT
UID:21388@musicaustria.at
DTSTART;TZID=Europe/Vienna:20251207T100000
DTEND;TZID=Europe/Vienna:20251207T100000
DTSTAMP:20251126T124936Z
URL:https://www.musicaustria.at/veranstaltungen/auskennen-im-musikbusiness
 -auf-der-mdw-podium-academy-2025-2/
SUMMARY:Auskennen im Musikbusiness auf der MDW-PODIUM ACADEMY 2025
DESCRIPTION:\nDie Universität für Musik und darstellende Kunst Wien – m
 dw lädt junge Musikbegeisterte aus Wien\, die sich 2024 zum Bundeswettbew
 erb qualifiziert haben und jene\, welche 2025 beim Landeswettbewerb in Wie
 n antreten werden\, zur mdw-podium academy: jazz.pop.rock.experience 2025 
 ein. Dieses exklusive Angebot richtet sich an talentierte Nachwuchsmusiker
 *innen der Altersgruppen III\, IV\, V und V+.\n\n\nInhalte\nWie sieht der 
 Weg einer jungen Jazzmusikerin aus\, die sich in der Szene etabliert und m
 it dem österreichischen Jazzpreis (Best Newcomer) ausgezeichnet wurde? Yv
 onne Moriel ("best newcomer" - österreichischer Jazzpreis) gibt Einblicke
  in ihren künstlerischen Werdegang\, den Aufbau eines eigenen Profils\, i
 hre Arbeit zwischen Proben\, Konzerten\, Studio und Unterricht – und spr
 icht mit Dominik Beyer (mica – music austria) offen über Chancen und H
 ürden im aktuellen Musikbetrieb.\n&nbsp\;\nInhalte &amp\; Schwerpunkte\n&
 nbsp\;\n\n 	\nKarriereweg und künstlerische Profilbildung als Jazzmusiker
 :in\n\n 	\nArbeiten in der Jazzszene: Bands\, Netzwerke\, Sessions\, Festi
 vals\n\n 	\nEinnahmequellen: Gagen\, Unterricht\, Projekte\, Förderungen\
 , Auftragsarbeiten\n\n 	\nUmgang mit Sichtbarkeit\, Erwartungsdruck und Au
 szeichnung („Best Newcomer“)\n\n 	\nErfahrungen als Frau in der Jazzsz
 ene und Strategien für mehr Empowerment\n\n\n&nbsp\;\nZielgruppe &amp\; Z
 iele\n&nbsp\;\nDer Workshop richtet sich an Musiker:innen und Studierende\
 , die einen realitätsnahen und zeitgemäßen Einblick in den Berufsalltag
  von Musikschaffenden bekommen möchten.\nZiel ist es\, verständlich zu m
 achen\, wie der Alltag im Musikgeschäft tatsächlich aussieht – und wel
 che Einnahmequellen vielleicht auch abseits der Bühne zum Aufbau einer na
 chhaltigen Karriere beitragen können.\n&nbsp\;\n\nSprecher: Yvonne Moriel
 \n\nModeration: Dominik Beyer (mica - music austria)\n\n&nbsp\;\n\nAnmeldu
 ng: Der Workshop richtet sich ausschließlich an Teilnehmer der MDW-PODIU
 M ACADEMY 2025.
CATEGORIES:Workshops
LOCATION:mdw - Universität für Musik und darstellende Kunst\, Anton-von-W
 ebern-Platz 1\, Wien\, Wien\, 1030\, Österreich
GEO:48.201799;16.38476579999997
X-APPLE-STRUCTURED-LOCATION;VALUE=URI;X-ADDRESS=Anton-von-Webern-Platz 1\, 
 Wien\, Wien\, 1030\, Österreich;X-APPLE-RADIUS=100;X-TITLE=mdw - Universi
 tät für Musik und darstellende Kunst:geo:48.201799,16.38476579999997
END:VEVENT
BEGIN:VTIMEZONE
TZID:Europe/Vienna
X-LIC-LOCATION:Europe/Vienna
BEGIN:STANDARD
DTSTART:20251026T020000
TZOFFSETFROM:+0200
TZOFFSETTO:+0100
TZNAME:CET
END:STANDARD
END:VTIMEZONE
END:VCALENDAR