BEGIN:VCALENDAR
VERSION:2.0
PRODID:-//wp-events-plugin.com//7.2.3.1//EN
TZID:Europe/Vienna
X-WR-TIMEZONE:Europe/Vienna
BEGIN:VEVENT
UID:21420@musicaustria.at
DTSTART;TZID=Europe/Vienna:20251213T210000
DTEND;TZID=Europe/Vienna:20251213T210000
DTSTAMP:20251205T123142Z
URL:https://www.musicaustria.at/veranstaltungen/attwenger/
SUMMARY:ATTWENGER
DESCRIPTION:\n\n\n\n\nerstes konzert im april 1990\, arena wien\, 3 h morge
 ns.\n\nder name attwenger stammt aus einem gstanzl\, das im oberösterreic
 hischen regionalsender gespielt wurde.\n\nerste cd/lp "most" im frühjahr 
 1991\, wie die weiteren tonträger auf dem münchner label trikont erschie
 nen.\n\nkonzerte in den deutschsprachigen gegenden sowie auch in marseille
 \, amsterdam\, brüssel\, london\, kuala lumpur und harare.\n\n92 und 93 w
 erden "pflug" und "luft" veröffentlicht\, die in österreich jeweils zum 
 album des jahres gewählt werden\, woraufhin dieser wettbewerb wieder abge
 schafft wird.\n\ndie presse: gänzlich unerwartete musik\, die nicht nur l
 ibidinös\, sondern auch hochintelligent ist [stern]\n\ni have no idea\, w
 hat it´s all about\, but i like the general noise\, a great deal [john pe
 el\, bbc]\n\nattwenger sind nicht nur die virtuosesten\, sondern auch die 
 widersprüchlichsten rabauken\, die das popgeschäft in jüngster zeit hei
 mgesucht haben [süddt. zeitung]\n\neine wüste\, schmutzige musik [der sp
 iegel]\n\nattwengers mundart ist eher funk als dialekt [spex]\n\nnach der 
 fertigstellung des 35mm-streifens "attwengerfilm" und einer sibirien-tourn
 ee lösen sich attwenger im herbst 95 auf\, um im sommer 96 neue stücke z
 u entwickeln\, die 97 auf "song" veröffentlicht werden.\n\ndie presse daz
 u: nach punk\, volksmusik und hip-hop erkunden die linzer den dancefloor-k
 ontinent [profil]\n\nständige wiederholungen\, hypnotisch um die eigene a
 chse kreisend [der standard]\n\nsong poliert musikalisch-textliche fläche
 n [weltwoche].\n\nund dann geht es wieder weiter. nach konzerten u.a. in h
 o-chi-minh-city/vietnam [1998] und lahore/pakistan [2001] und anderen sach
 en\, die sich in der zwischenzeit abgespielt haben\, erscheint mit "sun" i
 m frühjahr 2002 das fünfte album\, auf dem in 15 stücken die aktuelle d
 eutung des attwengerschen begriffs von dialekt &amp\; sound erfolgt.\n\nda
 zu die presse: eine flut an geschichten\, klängen und begegnungen [concer
 to]\n\nklassische atttwenger-stücke treffen auf mundart-elektro-dub\, dad
 aistischen groove-pop und unterschwellig irritierende gemütlichkeit [falt
 er]\n\nklingt modern und leichtfüssig [junge welt]\n\nnach ausgiebigen ko
 nzertreisen mit den sun-stücken\, u.a. im frühjahr 2005 in mexiko\, wird
  das sechste album produziert\, mit 14 schlanken polka- und slang-songs\, 
 die in die verschiedensten richtungen abfahren. titel: "dog". release: okt
 ober 2005.\n\ndie presse: verbale\, durch die mundart noch verschärfte hi
 ebe [news]\n\neine dreiviertelstunde blitzgescheite musik\, die den arsch 
 gehörig zum wackeln bringt [ausgustin]\n\nattwenger\, das ist bedächtigk
 eit und entrüstung\, regionalität und grenzenlosigkeit\, vergangenheit u
 nd zukunft\, stoische souveränität und leidenschaft [die presse]\n\nbere
 its ein halbes jahr später\, im april 2006\, erscheint mit "dog2" schon w
 ieder der nächste attwenger-longplayer\, ein album mit 17 remix-versionen
  von diversen dog-stücken.\n\nWährend des Jahres 2006 begleitete der oö
  Filmemacher Markus Kaiser-Mühlecker Attwenger bei zahlreichen Konzerten 
 mit seiner Kamera\, führte einige Interviews\, durchkämmte das Videoarch
 iv und machte daraus die im April 2007 beim Crossing Europe Film Festival 
 Linz erstmals präsentierte 90 Min Musik–Doku „Attwenger Adventure“\
 , die zusammen mit dem „Attwengerfilm“ von 1995 im Herbst 2008 in der 
 Serie „Der österreichische Film“ auf DVD erschienen ist.\n\nIm März 
 2008 Konzertreise durch Indonesien. Auftritte in Jakarta\, Surabaya und Ba
 li (Blue Ocean Restaurant at Kuta Beach). Beginn der Produktion des Albums
  Flux\, das in 5 verschiedenen Studios aufgenommen und im Frühjahr 2011 v
 eröffentlicht wird.\n\n- Die intelligente Verspieltheit des Fluxus. [Die 
 Zeit]\n\n- Geschichten mit der Kraft und Lebensnähe von H.C. Artmann und 
 der Treffsicherheit von Karl Kraus. [Salzburger Nachrichten]\n\nIm März 2
 012 Auftritt beim Festival South by Southwest in Austin\, Texas\, im Cafe 
 Istanbul in New Orleans und in drei verschiedenen Locations in New York Ci
 ty. Im März 2013 Konzert in Chisinau\, Moldawien.\n\nIm selben Monat ersc
 heint mit Clubs das erste Attwenger-Live-Album\, das gemeinsam mit einer D
 VD mit zwei Tourneefilmen veröffentlicht wird.\n\n- Ein 36-teiliger Teufe
 lsritt\, der den Schlagzeug-Quetschn-Gstanzl-Elektronik-Wahnsinn auf höch
 stem Niveau kultiviert. Chapeau! [Der Falter]\n\n- Eine aufregende Collage
  aus der wilden Attwengerwelt. Begleitet von ebenso tollen 90 Minuten Bild
 material. [Junge Welt]\n\nIm März 2015 Release des 23-Songs-in-40-Minuten
 -Albums Spot.\n\n\n\n\n
LOCATION:Kapu\, Kapuzinerstraße 36\, Linz\, Oberösterreich\, 4020\, Öste
 rreich
GEO:48.300757;14.282129
X-APPLE-STRUCTURED-LOCATION;VALUE=URI;X-ADDRESS=Kapuzinerstraße 36\, Linz\
 , Oberösterreich\, 4020\, Österreich;X-APPLE-RADIUS=100;X-TITLE=Kapu:geo
 :48.300757,14.282129
END:VEVENT
BEGIN:VTIMEZONE
TZID:Europe/Vienna
X-LIC-LOCATION:Europe/Vienna
BEGIN:STANDARD
DTSTART:20251026T020000
TZOFFSETFROM:+0200
TZOFFSETTO:+0100
TZNAME:CET
END:STANDARD
END:VTIMEZONE
END:VCALENDAR