BEGIN:VCALENDAR
VERSION:2.0
PRODID:-//wp-events-plugin.com//7.2.3.1//EN
TZID:Europe/Vienna
X-WR-TIMEZONE:Europe/Vienna
BEGIN:VEVENT
UID:22111@musicaustria.at
DTSTART;TZID=Europe/Vienna:20260530T210000
DTEND;TZID=Europe/Vienna:20260530T210000
DTSTAMP:20260424T131632Z
URL:https://www.musicaustria.at/veranstaltungen/attwenger-spielen-wos-5/
SUMMARY:Attwenger - spielen wos
DESCRIPTION:Attwenger verstecken hinter ihrer ganz eigenen Traditions-Entfr
 emdung ein popkulturelles Universum\, das von Rock’n'Roll und Polka bis 
 zu Trip-Hop und Techno reicht. Von zweiminütigen Song-Miniaturen bis zu z
 wanzig Minuten dauernden Hypno-Schleifen ist alles drin. Man muss sie live
  gesehen haben\, um die ganze Bandbreite ihrer musikalischen Magie zu vers
 tehen und ihren speziellen Groove zu spüren. Ein Leben ohne Attwenger ist
  möglich\, aber nicht erstrebenswert.\n\nAttwenger kombinieren Elemente t
 raditioneller Musik mit Punkrock\, Trap\, Hip-Hop\, Techno\, Dub und Rocka
 billy. Ihr minimalistisches Konzept hat schon lange nicht mehr viel mit Fo
 lklore zu tun\, die Ausrichtung ihrer Musik ist vielmehr internationalisti
 sch\, die Texte groovig\, crazy\, mentalitätskritisch oder wie die Südde
 utsche Zeitung formulierte: Hochwertiger Wahnsinn im Dialekt. In derselben
  Zeitung wurden Attwenger als virtuose Rabauken bezeichnet\, die blitzgesc
 heite Musik machen\, die den Arsch zum Wackeln bringt. Hans-Peter Falkner 
 (elektrische Knopfharmonika\, Gesang) und Markus Binder (Schlagzeug\, Elek
 trobeats\, Maultrommel\, Gesang) gründeten ihr Duo Anfang der Neunziger u
 nd haben es nie darauf angelegt\, den Mainstream zu erobern\, sondern ihre
  spezielle Mischung der unterschiedlichsten Zutaten beständig weiter zu e
 ntwickeln. Ohne Attwenger wärs enger\, doch sie bleiben e noch länger.
CATEGORIES:Events
LOCATION:Alter Schlachthof Wels\, Dragonerstraße 22\, Wels\, Oberösterrei
 ch\, 4600\, Österreich
GEO:48.158522;14.017457
X-APPLE-STRUCTURED-LOCATION;VALUE=URI;X-ADDRESS=Dragonerstraße 22\, Wels\,
  Oberösterreich\, 4600\, Österreich;X-APPLE-RADIUS=100;X-TITLE=Alter Sch
 lachthof Wels:geo:48.158522,14.017457
END:VEVENT
BEGIN:VTIMEZONE
TZID:Europe/Vienna
X-LIC-LOCATION:Europe/Vienna
BEGIN:DAYLIGHT
DTSTART:20260329T030000
TZOFFSETFROM:+0100
TZOFFSETTO:+0200
TZNAME:CEST
END:DAYLIGHT
END:VTIMEZONE
END:VCALENDAR