BEGIN:VCALENDAR
VERSION:2.0
PRODID:-//wp-events-plugin.com//7.2.3.1//EN
TZID:Europe/Vienna
X-WR-TIMEZONE:Europe/Vienna
BEGIN:VEVENT
UID:21912@musicaustria.at
DTSTART;TZID=Europe/Vienna:20260403T200000
DTEND;TZID=Europe/Vienna:20260403T200000
DTSTAMP:20260305T102557Z
URL:https://www.musicaustria.at/veranstaltungen/anna-buchegger-support-ina
 lied/
SUMMARY:Anna Buchegger // Support: inalied
DESCRIPTION:\n\n\n\nAnna Buchegger\n\nNach ihrem viel beachteten Debütalb
 um Windschatten – ausgezeichnet mit zwei Amadeus Award-Nominierungen\, d
 em Hubert von Goisern Kulturpreis 2024 und einem ARTE TRACKS-Porträt –
  veröffentlicht die österreichische Musikerin Anna Buchegger am 13. Ju
 ni 2025 ihre neue Single “Maria”. Sie markiert den Auftakt zum zweiten
  Album “Soiz” (VÖ: 03.10.2025).\n\nMaria ist eine reduzierte\, emoti
 onal aufgeladene Hommage an “Maria” von Trapp – nicht als Idylle\, s
 ondern als ungezähmte Frauenfigur mit Eigensinn und Haltung. Diese kün
 stlerische und politische Linie führt “Soiz” konsequent weiter: mit 
 noch mehr Klarheit\, Widerstand und stilistischem Mut. Der Sound ist kanti
 ger\, der Ton roher\, der Blick kompromisslos.\n\nBuchegger bleibt dem Dia
 lekt als künstlerischem Statement treu und konfrontiert alpenländische
  Tradition mit Selbstironie und avantgardistischem Wagemut – musikalisch
  wie visuell. Die Kunstfigur zwischen Clown\, Couture und Tracht wird zum 
 Spiegelbild einer Generation\, die ihre Wurzeln nicht konserviert\, sonder
 n kritisch befragt.\n\n\n\n\nhttps://www.annabuchegger.com/\n\ninalied –
  Debüt-EP „I Siag Di”\n\nDas österreichische Mundart-Pop-Duo inalied
  veröffentlichte am 13. Dezember 2024 seine Debüt-EP „I Siag Di“\, d
 ie ebenfalls auf CD erhältlich sein wird. Auf den fünf Songs interpretie
 ren Ina Melichar und Winfried Faderl das Genre auf eine vielschichtige und
  spannende Weise.
CATEGORIES:Events
LOCATION:Kulturverein Röda\, Gaswerkgasse 2\, Steyr\, Oberösterreich\, 44
 00\, Österreich
GEO:48.042772;14.415027
X-APPLE-STRUCTURED-LOCATION;VALUE=URI;X-ADDRESS=Gaswerkgasse 2\, Steyr\, Ob
 erösterreich\, 4400\, Österreich;X-APPLE-RADIUS=100;X-TITLE=Kulturverein
  Röda:geo:48.042772,14.415027
END:VEVENT
BEGIN:VTIMEZONE
TZID:Europe/Vienna
X-LIC-LOCATION:Europe/Vienna
BEGIN:DAYLIGHT
DTSTART:20260329T030000
TZOFFSETFROM:+0100
TZOFFSETTO:+0200
TZNAME:CEST
END:DAYLIGHT
END:VTIMEZONE
END:VCALENDAR