BEGIN:VCALENDAR
VERSION:2.0
PRODID:-//wp-events-plugin.com//7.2.3.1//EN
TZID:Europe/Vienna
X-WR-TIMEZONE:Europe/Vienna
BEGIN:VEVENT
UID:22075@musicaustria.at
DTSTART;TZID=Europe/Vienna:20260509T200000
DTEND;TZID=Europe/Vienna:20260509T200000
DTSTAMP:20260421T131253Z
URL:https://www.musicaustria.at/veranstaltungen/andyman/
SUMMARY:ANDYMAN
DESCRIPTION:ANDREAS HAIDECKER: GITARRE\, STIMME\nANDREAS KURZ: KONTRABASS\,
  STIMME\n\nANDYMAN erzählt kabarettistische und nachdenkliche Geschichten
  in Liedform\; und zwar im Dialekt. Musikalisch unverkennbar sind die leic
 htfüßige Zweistimmigkeit der hellen Männerstimmen und der transparente 
 Zusammenklang von Kontrabass und Akustikgitarre. In seinen instrumentalen 
 Zwischenspielen beeindruckt ANDYMAN durch Spielwitz und improvisatorischen
  Ideenreichtum. Für sein Bühnenprogramm schätzt das Duo die intime Atmo
 sphäre von Kleinkunst- und Konzertbühnen besonders.\n\nDie beiden gebür
 tigen Oberösterreicher leben mittlerweile in Wien und beziehen die Ideen 
 für ihre Lieder und Texte aus gemeinsamen Erlebnissen und zahlreichen Ges
 prächen während ihrer 20-jährigen Freundschaft.\n\nAndreas Haidecker: s
 tudierte Jazzgitarre an der Bruckner-Universität in Linz bei Peter O’Ma
 ra. Er ist als Musiker in zahlreichen Formationen und als Pädagoge tätig
 .\n\nAndreas Kurz: arbeitet als Schriftsteller und Regisseur und verbracht
 e mehrere Jahre als Universitätslektor in Ungarn\, China und Russland.\n\
 nEintritt: VVK: € 30\, AK: € 35\ntickets@hobiraum.at oder 0676/9178460
CATEGORIES:Events
LOCATION:HOB I RAUM\, Hanuschgasse 1/28A\, Bad Vöslau\, Niederösterreich\
 , 2540\, Bezirk Baden\, Österreich
GEO:47.969448;16.22211
X-APPLE-STRUCTURED-LOCATION;VALUE=URI;X-ADDRESS=Hanuschgasse 1/28A\, Bad V
 öslau\, Niederösterreich\, 2540\, Bezirk Baden\, Österreich;X-APPLE-RAD
 IUS=100;X-TITLE=HOB I RAUM:geo:47.969448,16.22211
END:VEVENT
BEGIN:VTIMEZONE
TZID:Europe/Vienna
X-LIC-LOCATION:Europe/Vienna
BEGIN:DAYLIGHT
DTSTART:20260329T030000
TZOFFSETFROM:+0100
TZOFFSETTO:+0200
TZNAME:CEST
END:DAYLIGHT
END:VTIMEZONE
END:VCALENDAR