BEGIN:VCALENDAR
VERSION:2.0
PRODID:-//wp-events-plugin.com//7.2.3.1//EN
TZID:Europe/Vienna
X-WR-TIMEZONE:Europe/Vienna
BEGIN:VEVENT
UID:14972@musicaustria.at
DTSTART;TZID=Europe/Vienna:20220419T173000
DTEND;TZID=Europe/Vienna:20220419T193000
DTSTAMP:20220415T080053Z
URL:https://www.musicaustria.at/veranstaltungen/ame-mica-webinar-focus-mar
 keting-2022-innovative-musikmarketing-strategien/
SUMMARY:AME/mica – Webinar: Focus Marketing 2022 – innovative Musikmark
 eting Strategien
DESCRIPTION:Anlässlich der Ausschreibung des Förderprogramms „Focus Mar
 keting“ 2022 werden in diesem Workshop innovative Strategien und vielsei
 tige Ansätze für modernes Musikmarketing\, Playlist-Pitching und die int
 ernationale Positionierung heimischer Künstler*innen vorgestellt. Experte
 n aus der öst. Musikbranche erläutern ihre Herangehensweisen und präsen
 tieren erfolgreich umgesetzte Kampagnen für heimische Musikschaffende.\n\
 nDie „FOCUS MARKETING“ Projektförderung ist ein Programm von Austrian
  Music Export mit Unterstützung des BMKÖS und des BMEIA\, welches eine 
 gute und professionelle internationale Präsentation heimischer Musik in 
 einem durch die Corona-Pandemie erschwerten Umfeld ermöglichen soll. Unt
 erstützt wird die internationale Vermarktung von öst. Künstler*innen u
 nd deren künstlerischen Projekten\, wie beispielsweise Veröffentlichung
 en\, Tourneen oder internationale Kollaborationen. Ein Fokus wird dabei 
 auf innovative Ansätze zur Vermittlung heimischen Repertoires an ein int
 ernationales Publikum gelegt werden.\n\nMehr Informationen zu dem Förderp
 rogramm: https://www.musicexport.at/open-call-focus-marketing-2022/\n\nVo
 rtragende: Bernhard Kern (siluh records)\, Matthias Bayr (Buero Butter)\, 
 Stefan Kudlicki (LKMTV) und Rainer Praschak (mica – music austria)\n\nTe
 ilnahme kostenlos\n\nOrt: Zoom (Link wird noch bekanntgegeben)\nbitte um 
 Anmeldung per E-Mail: office@musicaustria.at
CATEGORIES:Workshops
END:VEVENT
BEGIN:VTIMEZONE
TZID:Europe/Vienna
X-LIC-LOCATION:Europe/Vienna
BEGIN:DAYLIGHT
DTSTART:20220327T030000
TZOFFSETFROM:+0100
TZOFFSETTO:+0200
TZNAME:CEST
END:DAYLIGHT
END:VTIMEZONE
END:VCALENDAR