BEGIN:VCALENDAR
VERSION:2.0
PRODID:-//wp-events-plugin.com//7.2.3.1//EN
TZID:Europe/Vienna
X-WR-TIMEZONE:Europe/Vienna
BEGIN:VEVENT
UID:21409@musicaustria.at
DTSTART;TZID=Europe/Vienna:20260113T160000
DTEND;TZID=Europe/Vienna:20260113T173000
DTSTAMP:20251215T145056Z
URL:https://www.musicaustria.at/veranstaltungen/akm-aus-der-praxis-fuer-di
 e-praxis-hybrid-im-mica-und-via-zoom/
SUMMARY:AKM - Aus der Praxis für die Praxis (hybrid im mica und via Zoom)
DESCRIPTION:Als Verwertungsgesellschaft muss sich die AKM an feste Abrechnu
 ngsregeln halten. Abgerechnet wird der Umfang der Werknutzung nach festges
 etzten sowie einsehbaren Tarifen und Abrechnungsregeln. Im ersten Teil de
 s Workshops werden die verschiedenen Abrechnungsmodalitäten der AKM ausf
 ührlich und praxisnah erklärt\, um ein besseres Verständnis zu schaffen
  und mögliche Unklarheiten gemeinsam zu klären.\n\n\n 	Wie berechnet die
  AKM das Lizenzentgelt für eine Veranstaltung mit Livemusik? Welche unter
 schiedlichen Berechnungsmodelle (Einnahmen-\, Fassungsraum- und Aufwandsab
 rechnung) gibt es und wann kommen sie zur Anwendung?\n 	Wie kommen Urheber
 Innen zu ihrem Geld? Wie können sie nachvollziehen\, ob die konkrete Abre
 chnung stimmt? Welche Hilfestellungen zum besseren Verständnis der Abrech
 nung gibt es? Welche Möglichkeiten der Nachbesserung gibt es\, falls die 
 Meldung durch den Veranstalter nicht korrekt erfolgte? Welche Schritte set
 zt die AKM als Treuhänder\, welche die Urheber? Welche Möglichkeiten des
  Einspruchs gibt es? Was sind die häufigsten Fragestellungen in der Praxi
 s?\n\nIn einem zweiten Teil wird auf spezifische Fragestellungen aus der B
 eratungspraxis des mica eingegangen\, z.B.:\n\n\n 	Auslandsabrechnungen: W
 ie funktioniert die Abrechnung über Schwestergesellschaften wie GEMA oder
  SACEM? Was sind die häufigsten Probleme\, die in der Praxis auftreten k
 önnen und was kann ich als UrheberIn tun\, um sie zu vermeiden?\n 	Welche
  Besonderheiten gelten für Streaming? Wie funktioniert die Abrechnung fü
 r multi-territoriale Online-Nutzung?\n 	Sync-Rights: Welche Rechte vergibt
  die AKM hier? Für welche Nutzung (Österreichisches Fernsehen\, Youtube 
 etc.) und zu welchen Tarifen?\n 	Wie werden Ausstellungen und Klanginstall
 ationen lizenziert?\n 	Wie melde ich mit Beteiligung künstlicher Intellig
 enz geschaffene Werke an und welche Konsequenzen hat eine Falschmeldung?\n
 \nZielgruppe:  Musikschaffende\nVortragende:\nDieter Krupitza\, Leiter de
 s Geschäftsbereichs Lizenzen in der AKM\nSusanne Lontzen\, Leiterin des 
 Direktionsbereichs Mitglieder in der AKM\nWo? mica\, music austria\, Stift
 gasse 29\, 1070 Wien und via Zoom.\n\nAnmeldung unter:\n\nhttps://secure.d
 ialog-mail.de/pf/510/uD3J1
CATEGORIES:Workshops
LOCATION:mica - music austria\, Stiftgasse 29\, Wien\, Wien\, 1070\, Öster
 reich
GEO:48.2031848;16.354097599999932
X-APPLE-STRUCTURED-LOCATION;VALUE=URI;X-ADDRESS=Stiftgasse 29\, Wien\, Wien
 \, 1070\, Österreich;X-APPLE-RADIUS=100;X-TITLE=mica - music austria:geo:
 48.2031848,16.354097599999932
END:VEVENT
BEGIN:VTIMEZONE
TZID:Europe/Vienna
X-LIC-LOCATION:Europe/Vienna
BEGIN:STANDARD
DTSTART:20251026T020000
TZOFFSETFROM:+0200
TZOFFSETTO:+0100
TZNAME:CET
END:STANDARD
END:VTIMEZONE
END:VCALENDAR