BEGIN:VCALENDAR
VERSION:2.0
PRODID:-//wp-events-plugin.com//7.2.3.1//EN
TZID:Europe/Vienna
X-WR-TIMEZONE:Europe/Vienna
BEGIN:VEVENT
UID:22082@musicaustria.at
DTSTART;TZID=Europe/Vienna:20260508T193000
DTEND;TZID=Europe/Vienna:20260508T193000
DTSTAMP:20260424T120753Z
URL:https://www.musicaustria.at/veranstaltungen/5-millionen-pesos-philipp-
 ossannas-gummimamba/
SUMMARY:5 Millionen Pesos: Philipp Ossanna’s Gummimamba
DESCRIPTION:Gitarrist Philipp Ossanna ist u.a. als Mitglied des internation
 al erfolgreichen Tiroler Minimal-Rock-Jazz-Quartetts HI5 bekannt\, im neue
 n Trio Gummimamba mit Trompeter Martin Ohrwalder und Schlagzeuger Lukas La
 imer zeigt er als alleiniger Bandleader auf.\n\nKraftvolle\, elektronisch 
 unterstützte Klangeruptionen zwischen klug auskomponierter Struktur\, fre
 ier Improvisation und coolen Grooves sind es\, mit denen das Trio auf dem 
 2025 veröffentlichten Debütalbum "Strange Weather" aufhorchen lässt –
  das übrigens von TonArtTirol mit dem Jazzpreis der Stadt Innsbruck für 
 die Veröffentlichung des Jahres ausgezeichnet wurde.\n\nOssanna\, der auc
 h Klanginstallationen entwirft\, demonstriert seine Fähigkeiten als umsic
 htiger Choreograf dynamischer Soundmetamorphosen.\n\nIn Zusammenarbeit mit
  der Ö1 Jazzredaktion.
CATEGORIES:Events
LOCATION:Radiokulturhaus / Studio 3\, Argentinierstraße 30A\, Wien\, Wien\
 , 1040\, Österreich
GEO:48.194697;16.372585
X-APPLE-STRUCTURED-LOCATION;VALUE=URI;X-ADDRESS=Argentinierstraße 30A\, Wi
 en\, Wien\, 1040\, Österreich;X-APPLE-RADIUS=100;X-TITLE=Radiokulturhaus 
 / Studio 3:geo:48.194697,16.372585
END:VEVENT
BEGIN:VTIMEZONE
TZID:Europe/Vienna
X-LIC-LOCATION:Europe/Vienna
BEGIN:DAYLIGHT
DTSTART:20260329T030000
TZOFFSETFROM:+0100
TZOFFSETTO:+0200
TZNAME:CEST
END:DAYLIGHT
END:VTIMEZONE
END:VCALENDAR