BEGIN:VCALENDAR
VERSION:2.0
PRODID:-//wp-events-plugin.com//7.2.3.1//EN
TZID:Europe/Vienna
X-WR-TIMEZONE:Europe/Vienna
BEGIN:VEVENT
UID:22085@musicaustria.at
DTSTART;TZID=Europe/Vienna:20260618T200000
DTEND;TZID=Europe/Vienna:20260618T200000
DTSTAMP:20260424T122432Z
URL:https://www.musicaustria.at/veranstaltungen/5-millionen-pesos-elsa/
SUMMARY:5 Millionen Pesos: ELSA
DESCRIPTION:Im Rahmen der Reihe für jungen Jazz in und aus Österreich ist
  die Singer-Songwriterin Elsa Steixner mit ihrer Band ELSA zu Gast bei And
 reas Felber.\n\nDie Wienerin Elsa Steixner hat an der ArtEZ University of 
 the Arts in Arnhem\, Niederlande\, Jazz- und Popgesang studiert. Gemeinsam
  mit den deutschen Kollegen Julian Bazzanella (Keyboards) und Daniel Louis
  (Schlagzeug)\, die sie während des Studiums kennenlernte\, sowie Jakob L
 ang (Kontrabass)\, bekannt auch aus der Wiener Indie-Pop-Band Buntspecht\,
  gründete sie die Band ELSA – um hier ihre eigene Handschrift als jazza
 ffine Singer-Songwriterin zu entwickeln.\n\nDas 2025 – zurück in Wien 
 – veröffentlichte zweite Album "Jump!" gefällt durch in bildhafte Song
 s verpackte Geschichten\, die sich um Aufbruch und Empowerment drehen\, ab
 er auch Themen wie Abschied und Rückblick nicht ausblenden. Die Texte fin
 den sich in frische\, süffige Kompositionen zwischen Jazz\, Pop und Folk 
 eingepasst\, wobei live zudem die improvisierten Parts das Tüpfelchen auf
  dem i bilden.
CATEGORIES:Events
LOCATION:Radiokulturhaus / Studio 3\, Argentinierstraße 30A\, Wien\, Wien\
 , 1040\, Österreich
GEO:48.194697;16.372585
X-APPLE-STRUCTURED-LOCATION;VALUE=URI;X-ADDRESS=Argentinierstraße 30A\, Wi
 en\, Wien\, 1040\, Österreich;X-APPLE-RADIUS=100;X-TITLE=Radiokulturhaus 
 / Studio 3:geo:48.194697,16.372585
END:VEVENT
BEGIN:VTIMEZONE
TZID:Europe/Vienna
X-LIC-LOCATION:Europe/Vienna
BEGIN:DAYLIGHT
DTSTART:20260329T030000
TZOFFSETFROM:+0100
TZOFFSETTO:+0200
TZNAME:CEST
END:DAYLIGHT
END:VTIMEZONE
END:VCALENDAR