BEGIN:VCALENDAR
VERSION:2.0
PRODID:-//wp-events-plugin.com//7.2.3.1//EN
TZID:Europe/Vienna
X-WR-TIMEZONE:Europe/Vienna
BEGIN:VEVENT
UID:22088@musicaustria.at
DTSTART;TZID=Europe/Vienna:20260504T190000
DTEND;TZID=Europe/Vienna:20260504T190000
DTSTAMP:20260424T123554Z
URL:https://www.musicaustria.at/veranstaltungen/2hd-viola-hammer-patrick-d
 unst-motion/
SUMMARY:2HD – Viola Hammer & Patrick Dunst 'Motion'
DESCRIPTION:\n\nDas Duo 2HD – Viola Hammer und Patrick Dunst – verbinde
 t Musik und Film zu einem intimen Gesamtkunstwerk. Ausgangspunkt sind selb
 st gedrehte Filmszenen\, Stop-Motion-Arbeiten und Alltagsbeobachtungen. Di
 ese visuellen Miniaturen werden nicht vertont\, sondern musikalisch weiter
 gedacht. Im Fokus stehen scheinbar unscheinbare Details und flüchtige Mom
 ente.\n\nDie Musik bewegt sich zwischen Improvisation\, Minimalismus und e
 lektronischen Klangschichten. Reduktion trifft auf spontane Interaktion un
 d feine klangliche Transformationen. Analoge Instrumente verschmelzen mit 
 subtil eingesetzten Electronics. So entstehen dichte\, poetische Klangräu
 me zwischen Dokumentation und Imagination. 2HD erschaffen ein leises\, int
 ensives Erlebnis jenseits klassischer Konzertformen.\n\nViola Hammer: pian
 o\, keyboards\nPatrick Dunst: reeds\, electronics\n\n\nhttps://www.violaha
 mmer.com/\nhttp://www.patrickdunst.at/
CATEGORIES:Events
LOCATION:Porgy & Bess\, Riemergasse 11\, Wien\, Wien\, 1010\, Österreich
GEO:48.206833;16.37664
X-APPLE-STRUCTURED-LOCATION;VALUE=URI;X-ADDRESS=Riemergasse 11\, Wien\, Wie
 n\, 1010\, Österreich;X-APPLE-RADIUS=100;X-TITLE=Porgy & Bess:geo:48.2068
 33,16.37664
END:VEVENT
BEGIN:VTIMEZONE
TZID:Europe/Vienna
X-LIC-LOCATION:Europe/Vienna
BEGIN:DAYLIGHT
DTSTART:20260329T030000
TZOFFSETFROM:+0100
TZOFFSETTO:+0200
TZNAME:CEST
END:DAYLIGHT
END:VTIMEZONE
END:VCALENDAR